BEGIN:VCALENDAR
VERSION:2.0
PRODID:-//Kresse zweipunktnull - ECPv6.15.20//NONSGML v1.0//EN
CALSCALE:GREGORIAN
METHOD:PUBLISH
X-ORIGINAL-URL:https://kressezweipunktnull.de
X-WR-CALDESC:Veranstaltungen für Kresse zweipunktnull
REFRESH-INTERVAL;VALUE=DURATION:PT1H
X-Robots-Tag:noindex
X-PUBLISHED-TTL:PT1H
BEGIN:VTIMEZONE
TZID:Europe/Berlin
BEGIN:DAYLIGHT
TZOFFSETFROM:+0100
TZOFFSETTO:+0200
TZNAME:CEST
DTSTART:20290325T010000
END:DAYLIGHT
BEGIN:STANDARD
TZOFFSETFROM:+0200
TZOFFSETTO:+0100
TZNAME:CET
DTSTART:20291028T010000
END:STANDARD
BEGIN:DAYLIGHT
TZOFFSETFROM:+0100
TZOFFSETTO:+0200
TZNAME:CEST
DTSTART:20300331T010000
END:DAYLIGHT
BEGIN:STANDARD
TZOFFSETFROM:+0200
TZOFFSETTO:+0100
TZNAME:CET
DTSTART:20301027T010000
END:STANDARD
BEGIN:DAYLIGHT
TZOFFSETFROM:+0100
TZOFFSETTO:+0200
TZNAME:CEST
DTSTART:20310330T010000
END:DAYLIGHT
BEGIN:STANDARD
TZOFFSETFROM:+0200
TZOFFSETTO:+0100
TZNAME:CET
DTSTART:20311026T010000
END:STANDARD
END:VTIMEZONE
BEGIN:VEVENT
DTSTART;TZID=Europe/Berlin:20300301T083000
DTEND;TZID=Europe/Berlin:20300301T090000
DTSTAMP:20260424T113613
CREATED:20260408T193933Z
LAST-MODIFIED:20260408T204544Z
UID:10001826-1898584200-1898586000@kressezweipunktnull.de
SUMMARY:Yoga Workout
DESCRIPTION:30 Minuten\, die es in sich haben. \nDer effiziente Power-Start in deinen Freitagmorgen. In diesem knackigen 30-Minuten-Format fokussieren wir uns auf kraftvolle Flows\, Halteübungen und funktionelle Bewegungen. Wir verschwenden keine Zeit: Wir stärken gezielt deine Körpermitte\, fordern die Muskulatur und heben dein Energielevel für das anstehende Wochenende. Ein intensives Training für spürbare Stabilität und inneren Fokus. \nFür wen: Alle\, die sich in einer halben Stunde richtig fordern wollen (ab sofort buchbar).\nWann: Freitags\, 08:30 – 09:00 Uhr\nKosten: 90 € (10er Karte\, 12 Wochen gültig) \n 
URL:https://kressezweipunktnull.de/events/yoga-workout/2030-03-01/
LOCATION:Kresse zweipunktnull – Studio zweipunktnull\, Kressenberg 2\, Hattingen\, 45529\, Germany
CATEGORIES:Bewegung & Gesundheit
ATTACH;FMTTYPE=image/png:https://kressezweipunktnull.de/wp-content/uploads/2026/04/Yoga-von-Morgen-Website-gelb.png
ORGANIZER;CN="Yoga von Morgen":MAILTO:info@yogavonmorgen.de
END:VEVENT
BEGIN:VEVENT
DTSTART;TZID=Europe/Berlin:20300308T083000
DTEND;TZID=Europe/Berlin:20300308T090000
DTSTAMP:20260424T113613
CREATED:20260408T193933Z
LAST-MODIFIED:20260408T204544Z
UID:10001827-1899189000-1899190800@kressezweipunktnull.de
SUMMARY:Yoga Workout
DESCRIPTION:30 Minuten\, die es in sich haben. \nDer effiziente Power-Start in deinen Freitagmorgen. In diesem knackigen 30-Minuten-Format fokussieren wir uns auf kraftvolle Flows\, Halteübungen und funktionelle Bewegungen. Wir verschwenden keine Zeit: Wir stärken gezielt deine Körpermitte\, fordern die Muskulatur und heben dein Energielevel für das anstehende Wochenende. Ein intensives Training für spürbare Stabilität und inneren Fokus. \nFür wen: Alle\, die sich in einer halben Stunde richtig fordern wollen (ab sofort buchbar).\nWann: Freitags\, 08:30 – 09:00 Uhr\nKosten: 90 € (10er Karte\, 12 Wochen gültig) \n 
URL:https://kressezweipunktnull.de/events/yoga-workout/2030-03-08/
LOCATION:Kresse zweipunktnull – Studio zweipunktnull\, Kressenberg 2\, Hattingen\, 45529\, Germany
CATEGORIES:Bewegung & Gesundheit
ATTACH;FMTTYPE=image/png:https://kressezweipunktnull.de/wp-content/uploads/2026/04/Yoga-von-Morgen-Website-gelb.png
ORGANIZER;CN="Yoga von Morgen":MAILTO:info@yogavonmorgen.de
END:VEVENT
BEGIN:VEVENT
DTSTART;TZID=Europe/Berlin:20300315T083000
DTEND;TZID=Europe/Berlin:20300315T090000
DTSTAMP:20260424T113613
CREATED:20260408T193933Z
LAST-MODIFIED:20260408T204544Z
UID:10001828-1899793800-1899795600@kressezweipunktnull.de
SUMMARY:Yoga Workout
DESCRIPTION:30 Minuten\, die es in sich haben. \nDer effiziente Power-Start in deinen Freitagmorgen. In diesem knackigen 30-Minuten-Format fokussieren wir uns auf kraftvolle Flows\, Halteübungen und funktionelle Bewegungen. Wir verschwenden keine Zeit: Wir stärken gezielt deine Körpermitte\, fordern die Muskulatur und heben dein Energielevel für das anstehende Wochenende. Ein intensives Training für spürbare Stabilität und inneren Fokus. \nFür wen: Alle\, die sich in einer halben Stunde richtig fordern wollen (ab sofort buchbar).\nWann: Freitags\, 08:30 – 09:00 Uhr\nKosten: 90 € (10er Karte\, 12 Wochen gültig) \n 
URL:https://kressezweipunktnull.de/events/yoga-workout/2030-03-15/
LOCATION:Kresse zweipunktnull – Studio zweipunktnull\, Kressenberg 2\, Hattingen\, 45529\, Germany
CATEGORIES:Bewegung & Gesundheit
ATTACH;FMTTYPE=image/png:https://kressezweipunktnull.de/wp-content/uploads/2026/04/Yoga-von-Morgen-Website-gelb.png
ORGANIZER;CN="Yoga von Morgen":MAILTO:info@yogavonmorgen.de
END:VEVENT
BEGIN:VEVENT
DTSTART;TZID=Europe/Berlin:20300322T083000
DTEND;TZID=Europe/Berlin:20300322T090000
DTSTAMP:20260424T113613
CREATED:20260408T193933Z
LAST-MODIFIED:20260408T204544Z
UID:10001829-1900398600-1900400400@kressezweipunktnull.de
SUMMARY:Yoga Workout
DESCRIPTION:30 Minuten\, die es in sich haben. \nDer effiziente Power-Start in deinen Freitagmorgen. In diesem knackigen 30-Minuten-Format fokussieren wir uns auf kraftvolle Flows\, Halteübungen und funktionelle Bewegungen. Wir verschwenden keine Zeit: Wir stärken gezielt deine Körpermitte\, fordern die Muskulatur und heben dein Energielevel für das anstehende Wochenende. Ein intensives Training für spürbare Stabilität und inneren Fokus. \nFür wen: Alle\, die sich in einer halben Stunde richtig fordern wollen (ab sofort buchbar).\nWann: Freitags\, 08:30 – 09:00 Uhr\nKosten: 90 € (10er Karte\, 12 Wochen gültig) \n 
URL:https://kressezweipunktnull.de/events/yoga-workout/2030-03-22/
LOCATION:Kresse zweipunktnull – Studio zweipunktnull\, Kressenberg 2\, Hattingen\, 45529\, Germany
CATEGORIES:Bewegung & Gesundheit
ATTACH;FMTTYPE=image/png:https://kressezweipunktnull.de/wp-content/uploads/2026/04/Yoga-von-Morgen-Website-gelb.png
ORGANIZER;CN="Yoga von Morgen":MAILTO:info@yogavonmorgen.de
END:VEVENT
BEGIN:VEVENT
DTSTART;TZID=Europe/Berlin:20300329T083000
DTEND;TZID=Europe/Berlin:20300329T090000
DTSTAMP:20260424T113613
CREATED:20260408T193933Z
LAST-MODIFIED:20260408T204544Z
UID:10001830-1901003400-1901005200@kressezweipunktnull.de
SUMMARY:Yoga Workout
DESCRIPTION:30 Minuten\, die es in sich haben. \nDer effiziente Power-Start in deinen Freitagmorgen. In diesem knackigen 30-Minuten-Format fokussieren wir uns auf kraftvolle Flows\, Halteübungen und funktionelle Bewegungen. Wir verschwenden keine Zeit: Wir stärken gezielt deine Körpermitte\, fordern die Muskulatur und heben dein Energielevel für das anstehende Wochenende. Ein intensives Training für spürbare Stabilität und inneren Fokus. \nFür wen: Alle\, die sich in einer halben Stunde richtig fordern wollen (ab sofort buchbar).\nWann: Freitags\, 08:30 – 09:00 Uhr\nKosten: 90 € (10er Karte\, 12 Wochen gültig) \n 
URL:https://kressezweipunktnull.de/events/yoga-workout/2030-03-29/
LOCATION:Kresse zweipunktnull – Studio zweipunktnull\, Kressenberg 2\, Hattingen\, 45529\, Germany
CATEGORIES:Bewegung & Gesundheit
ATTACH;FMTTYPE=image/png:https://kressezweipunktnull.de/wp-content/uploads/2026/04/Yoga-von-Morgen-Website-gelb.png
ORGANIZER;CN="Yoga von Morgen":MAILTO:info@yogavonmorgen.de
END:VEVENT
END:VCALENDAR