BEGIN:VCALENDAR
VERSION:2.0
PRODID:-//Kresse zweipunktnull - ECPv6.15.20//NONSGML v1.0//EN
CALSCALE:GREGORIAN
METHOD:PUBLISH
X-WR-CALNAME:Kresse zweipunktnull
X-ORIGINAL-URL:https://kressezweipunktnull.de
X-WR-CALDESC:Veranstaltungen für Kresse zweipunktnull
REFRESH-INTERVAL;VALUE=DURATION:PT1H
X-Robots-Tag:noindex
X-PUBLISHED-TTL:PT1H
BEGIN:VTIMEZONE
TZID:Europe/Berlin
BEGIN:DAYLIGHT
TZOFFSETFROM:+0100
TZOFFSETTO:+0200
TZNAME:CEST
DTSTART:20290325T010000
END:DAYLIGHT
BEGIN:STANDARD
TZOFFSETFROM:+0200
TZOFFSETTO:+0100
TZNAME:CET
DTSTART:20291028T010000
END:STANDARD
BEGIN:DAYLIGHT
TZOFFSETFROM:+0100
TZOFFSETTO:+0200
TZNAME:CEST
DTSTART:20300331T010000
END:DAYLIGHT
BEGIN:STANDARD
TZOFFSETFROM:+0200
TZOFFSETTO:+0100
TZNAME:CET
DTSTART:20301027T010000
END:STANDARD
BEGIN:DAYLIGHT
TZOFFSETFROM:+0100
TZOFFSETTO:+0200
TZNAME:CEST
DTSTART:20310330T010000
END:DAYLIGHT
BEGIN:STANDARD
TZOFFSETFROM:+0200
TZOFFSETTO:+0100
TZNAME:CET
DTSTART:20311026T010000
END:STANDARD
END:VTIMEZONE
BEGIN:VEVENT
DTSTART;TZID=Europe/Berlin:20300301T091000
DTEND;TZID=Europe/Berlin:20300301T101000
DTSTAMP:20260422T132817
CREATED:20260408T195530Z
LAST-MODIFIED:20260408T204516Z
UID:10002082-1898586600-1898590200@kressezweipunktnull.de
SUMMARY:Sanftes Mindful Movement
DESCRIPTION:Stärke finden aus der Ruhe. \nEin achtsames Bewegungskonzept für alle\, die Kraft ohne Leistungsdruck suchen. In diesem Kurs vereint Elena von Yoga von Morgen Elemente aus Yoga\, Pilates und somatischer Praxis. Du arbeitest gezielt an deiner Tiefenmuskulatur und einer gesunden Ausrichtung\, während fließende Sequenzen dir helfen\, die Signale deines Körpers wieder bewusst wahrzunehmen. Ein Raum für Regeneration\, der dich aufgerichtet und klar ins Wochenende entlässt. \nFür wen: Ideal für Einsteiger\, Wiedereinsteiger und alle\, die eine bewusste Auszeit suchen.\nWann: Freitags\, 09:10-10:10 Uhr
URL:https://kressezweipunktnull.de/events/sanftes-mindful-movement/2030-03-01/
LOCATION:Kresse zweipunktnull – Studio zweipunktnull\, Kressenberg 2\, Hattingen\, 45529\, Germany
CATEGORIES:Bewegung & Gesundheit
ATTACH;FMTTYPE=image/png:https://kressezweipunktnull.de/wp-content/uploads/2026/04/Yoga-von-Morgen-Website-gelb.png
ORGANIZER;CN="Yoga von Morgen":MAILTO:info@yogavonmorgen.de
END:VEVENT
BEGIN:VEVENT
DTSTART;TZID=Europe/Berlin:20300304T183000
DTEND;TZID=Europe/Berlin:20300304T194500
DTSTAMP:20260422T132817
CREATED:20260408T064630Z
LAST-MODIFIED:20260408T204613Z
UID:10001570-1898879400-1898883900@kressezweipunktnull.de
SUMMARY:Power & Release
DESCRIPTION:Power & Release\nDer kraftvolle Reset für deine Woche. \nSchüttle den Montags-Ballast ab und finde zurück in deine Kraft. Dieser Kurs kombiniert dynamische\, fordernde Bewegung mit tiefer Entspannung. Unter der Leitung von Yoga- und Ayurveda-Expertin Tatsiana nutzt du den ersten Teil der Stunde\, um Stressenergie aktiv „rauszupowern“ und den Kopf freizubekommen. Im anschließenden „Release“ darfst du komplett loslassen\, damit dein Nervensystem regeneriert und du entspannt in die Nacht startest. \nFür wen: Alle\, die Bewegung brauchen\, um im Kopf ruhig zu werden (keine Vorkenntnisse nötig).\nWann: Montags\, 18:30-19:45 Uhr
URL:https://kressezweipunktnull.de/events/power-release/2030-03-04/
LOCATION:Kresse zweipunktnull – Studio zweipunktnull\, Kressenberg 2\, Hattingen\, 45529\, Germany
CATEGORIES:Bewegung & Gesundheit
ATTACH;FMTTYPE=image/png:https://kressezweipunktnull.de/wp-content/uploads/2026/04/Yoga-von-Morgen-Website.png
ORGANIZER;CN="Yoga von Morgen":MAILTO:info@yogavonmorgen.de
END:VEVENT
BEGIN:VEVENT
DTSTART;TZID=Europe/Berlin:20300308T091000
DTEND;TZID=Europe/Berlin:20300308T101000
DTSTAMP:20260422T132817
CREATED:20260408T195530Z
LAST-MODIFIED:20260408T204516Z
UID:10002083-1899191400-1899195000@kressezweipunktnull.de
SUMMARY:Sanftes Mindful Movement
DESCRIPTION:Stärke finden aus der Ruhe. \nEin achtsames Bewegungskonzept für alle\, die Kraft ohne Leistungsdruck suchen. In diesem Kurs vereint Elena von Yoga von Morgen Elemente aus Yoga\, Pilates und somatischer Praxis. Du arbeitest gezielt an deiner Tiefenmuskulatur und einer gesunden Ausrichtung\, während fließende Sequenzen dir helfen\, die Signale deines Körpers wieder bewusst wahrzunehmen. Ein Raum für Regeneration\, der dich aufgerichtet und klar ins Wochenende entlässt. \nFür wen: Ideal für Einsteiger\, Wiedereinsteiger und alle\, die eine bewusste Auszeit suchen.\nWann: Freitags\, 09:10-10:10 Uhr
URL:https://kressezweipunktnull.de/events/sanftes-mindful-movement/2030-03-08/
LOCATION:Kresse zweipunktnull – Studio zweipunktnull\, Kressenberg 2\, Hattingen\, 45529\, Germany
CATEGORIES:Bewegung & Gesundheit
ATTACH;FMTTYPE=image/png:https://kressezweipunktnull.de/wp-content/uploads/2026/04/Yoga-von-Morgen-Website-gelb.png
ORGANIZER;CN="Yoga von Morgen":MAILTO:info@yogavonmorgen.de
END:VEVENT
BEGIN:VEVENT
DTSTART;TZID=Europe/Berlin:20300311T183000
DTEND;TZID=Europe/Berlin:20300311T194500
DTSTAMP:20260422T132817
CREATED:20260408T064630Z
LAST-MODIFIED:20260408T204613Z
UID:10001571-1899484200-1899488700@kressezweipunktnull.de
SUMMARY:Power & Release
DESCRIPTION:Power & Release\nDer kraftvolle Reset für deine Woche. \nSchüttle den Montags-Ballast ab und finde zurück in deine Kraft. Dieser Kurs kombiniert dynamische\, fordernde Bewegung mit tiefer Entspannung. Unter der Leitung von Yoga- und Ayurveda-Expertin Tatsiana nutzt du den ersten Teil der Stunde\, um Stressenergie aktiv „rauszupowern“ und den Kopf freizubekommen. Im anschließenden „Release“ darfst du komplett loslassen\, damit dein Nervensystem regeneriert und du entspannt in die Nacht startest. \nFür wen: Alle\, die Bewegung brauchen\, um im Kopf ruhig zu werden (keine Vorkenntnisse nötig).\nWann: Montags\, 18:30-19:45 Uhr
URL:https://kressezweipunktnull.de/events/power-release/2030-03-11/
LOCATION:Kresse zweipunktnull – Studio zweipunktnull\, Kressenberg 2\, Hattingen\, 45529\, Germany
CATEGORIES:Bewegung & Gesundheit
ATTACH;FMTTYPE=image/png:https://kressezweipunktnull.de/wp-content/uploads/2026/04/Yoga-von-Morgen-Website.png
ORGANIZER;CN="Yoga von Morgen":MAILTO:info@yogavonmorgen.de
END:VEVENT
BEGIN:VEVENT
DTSTART;TZID=Europe/Berlin:20300315T091000
DTEND;TZID=Europe/Berlin:20300315T101000
DTSTAMP:20260422T132817
CREATED:20260408T195530Z
LAST-MODIFIED:20260408T204516Z
UID:10002084-1899796200-1899799800@kressezweipunktnull.de
SUMMARY:Sanftes Mindful Movement
DESCRIPTION:Stärke finden aus der Ruhe. \nEin achtsames Bewegungskonzept für alle\, die Kraft ohne Leistungsdruck suchen. In diesem Kurs vereint Elena von Yoga von Morgen Elemente aus Yoga\, Pilates und somatischer Praxis. Du arbeitest gezielt an deiner Tiefenmuskulatur und einer gesunden Ausrichtung\, während fließende Sequenzen dir helfen\, die Signale deines Körpers wieder bewusst wahrzunehmen. Ein Raum für Regeneration\, der dich aufgerichtet und klar ins Wochenende entlässt. \nFür wen: Ideal für Einsteiger\, Wiedereinsteiger und alle\, die eine bewusste Auszeit suchen.\nWann: Freitags\, 09:10-10:10 Uhr
URL:https://kressezweipunktnull.de/events/sanftes-mindful-movement/2030-03-15/
LOCATION:Kresse zweipunktnull – Studio zweipunktnull\, Kressenberg 2\, Hattingen\, 45529\, Germany
CATEGORIES:Bewegung & Gesundheit
ATTACH;FMTTYPE=image/png:https://kressezweipunktnull.de/wp-content/uploads/2026/04/Yoga-von-Morgen-Website-gelb.png
ORGANIZER;CN="Yoga von Morgen":MAILTO:info@yogavonmorgen.de
END:VEVENT
BEGIN:VEVENT
DTSTART;TZID=Europe/Berlin:20300318T183000
DTEND;TZID=Europe/Berlin:20300318T194500
DTSTAMP:20260422T132817
CREATED:20260408T064630Z
LAST-MODIFIED:20260408T204613Z
UID:10001572-1900089000-1900093500@kressezweipunktnull.de
SUMMARY:Power & Release
DESCRIPTION:Power & Release\nDer kraftvolle Reset für deine Woche. \nSchüttle den Montags-Ballast ab und finde zurück in deine Kraft. Dieser Kurs kombiniert dynamische\, fordernde Bewegung mit tiefer Entspannung. Unter der Leitung von Yoga- und Ayurveda-Expertin Tatsiana nutzt du den ersten Teil der Stunde\, um Stressenergie aktiv „rauszupowern“ und den Kopf freizubekommen. Im anschließenden „Release“ darfst du komplett loslassen\, damit dein Nervensystem regeneriert und du entspannt in die Nacht startest. \nFür wen: Alle\, die Bewegung brauchen\, um im Kopf ruhig zu werden (keine Vorkenntnisse nötig).\nWann: Montags\, 18:30-19:45 Uhr
URL:https://kressezweipunktnull.de/events/power-release/2030-03-18/
LOCATION:Kresse zweipunktnull – Studio zweipunktnull\, Kressenberg 2\, Hattingen\, 45529\, Germany
CATEGORIES:Bewegung & Gesundheit
ATTACH;FMTTYPE=image/png:https://kressezweipunktnull.de/wp-content/uploads/2026/04/Yoga-von-Morgen-Website.png
ORGANIZER;CN="Yoga von Morgen":MAILTO:info@yogavonmorgen.de
END:VEVENT
BEGIN:VEVENT
DTSTART;TZID=Europe/Berlin:20300322T091000
DTEND;TZID=Europe/Berlin:20300322T101000
DTSTAMP:20260422T132817
CREATED:20260408T195530Z
LAST-MODIFIED:20260408T204516Z
UID:10002085-1900401000-1900404600@kressezweipunktnull.de
SUMMARY:Sanftes Mindful Movement
DESCRIPTION:Stärke finden aus der Ruhe. \nEin achtsames Bewegungskonzept für alle\, die Kraft ohne Leistungsdruck suchen. In diesem Kurs vereint Elena von Yoga von Morgen Elemente aus Yoga\, Pilates und somatischer Praxis. Du arbeitest gezielt an deiner Tiefenmuskulatur und einer gesunden Ausrichtung\, während fließende Sequenzen dir helfen\, die Signale deines Körpers wieder bewusst wahrzunehmen. Ein Raum für Regeneration\, der dich aufgerichtet und klar ins Wochenende entlässt. \nFür wen: Ideal für Einsteiger\, Wiedereinsteiger und alle\, die eine bewusste Auszeit suchen.\nWann: Freitags\, 09:10-10:10 Uhr
URL:https://kressezweipunktnull.de/events/sanftes-mindful-movement/2030-03-22/
LOCATION:Kresse zweipunktnull – Studio zweipunktnull\, Kressenberg 2\, Hattingen\, 45529\, Germany
CATEGORIES:Bewegung & Gesundheit
ATTACH;FMTTYPE=image/png:https://kressezweipunktnull.de/wp-content/uploads/2026/04/Yoga-von-Morgen-Website-gelb.png
ORGANIZER;CN="Yoga von Morgen":MAILTO:info@yogavonmorgen.de
END:VEVENT
BEGIN:VEVENT
DTSTART;TZID=Europe/Berlin:20300325T183000
DTEND;TZID=Europe/Berlin:20300325T194500
DTSTAMP:20260422T132817
CREATED:20260408T064630Z
LAST-MODIFIED:20260408T204613Z
UID:10001573-1900693800-1900698300@kressezweipunktnull.de
SUMMARY:Power & Release
DESCRIPTION:Power & Release\nDer kraftvolle Reset für deine Woche. \nSchüttle den Montags-Ballast ab und finde zurück in deine Kraft. Dieser Kurs kombiniert dynamische\, fordernde Bewegung mit tiefer Entspannung. Unter der Leitung von Yoga- und Ayurveda-Expertin Tatsiana nutzt du den ersten Teil der Stunde\, um Stressenergie aktiv „rauszupowern“ und den Kopf freizubekommen. Im anschließenden „Release“ darfst du komplett loslassen\, damit dein Nervensystem regeneriert und du entspannt in die Nacht startest. \nFür wen: Alle\, die Bewegung brauchen\, um im Kopf ruhig zu werden (keine Vorkenntnisse nötig).\nWann: Montags\, 18:30-19:45 Uhr
URL:https://kressezweipunktnull.de/events/power-release/2030-03-25/
LOCATION:Kresse zweipunktnull – Studio zweipunktnull\, Kressenberg 2\, Hattingen\, 45529\, Germany
CATEGORIES:Bewegung & Gesundheit
ATTACH;FMTTYPE=image/png:https://kressezweipunktnull.de/wp-content/uploads/2026/04/Yoga-von-Morgen-Website.png
ORGANIZER;CN="Yoga von Morgen":MAILTO:info@yogavonmorgen.de
END:VEVENT
BEGIN:VEVENT
DTSTART;TZID=Europe/Berlin:20300329T091000
DTEND;TZID=Europe/Berlin:20300329T101000
DTSTAMP:20260422T132817
CREATED:20260408T195530Z
LAST-MODIFIED:20260408T204516Z
UID:10002086-1901005800-1901009400@kressezweipunktnull.de
SUMMARY:Sanftes Mindful Movement
DESCRIPTION:Stärke finden aus der Ruhe. \nEin achtsames Bewegungskonzept für alle\, die Kraft ohne Leistungsdruck suchen. In diesem Kurs vereint Elena von Yoga von Morgen Elemente aus Yoga\, Pilates und somatischer Praxis. Du arbeitest gezielt an deiner Tiefenmuskulatur und einer gesunden Ausrichtung\, während fließende Sequenzen dir helfen\, die Signale deines Körpers wieder bewusst wahrzunehmen. Ein Raum für Regeneration\, der dich aufgerichtet und klar ins Wochenende entlässt. \nFür wen: Ideal für Einsteiger\, Wiedereinsteiger und alle\, die eine bewusste Auszeit suchen.\nWann: Freitags\, 09:10-10:10 Uhr
URL:https://kressezweipunktnull.de/events/sanftes-mindful-movement/2030-03-29/
LOCATION:Kresse zweipunktnull – Studio zweipunktnull\, Kressenberg 2\, Hattingen\, 45529\, Germany
CATEGORIES:Bewegung & Gesundheit
ATTACH;FMTTYPE=image/png:https://kressezweipunktnull.de/wp-content/uploads/2026/04/Yoga-von-Morgen-Website-gelb.png
ORGANIZER;CN="Yoga von Morgen":MAILTO:info@yogavonmorgen.de
END:VEVENT
END:VCALENDAR