BEGIN:VCALENDAR
VERSION:2.0
PRODID:-//Kresse zweipunktnull - ECPv6.15.20//NONSGML v1.0//EN
CALSCALE:GREGORIAN
METHOD:PUBLISH
X-WR-CALNAME:Kresse zweipunktnull
X-ORIGINAL-URL:https://kressezweipunktnull.de
X-WR-CALDESC:Veranstaltungen für Kresse zweipunktnull
REFRESH-INTERVAL;VALUE=DURATION:PT1H
X-Robots-Tag:noindex
X-PUBLISHED-TTL:PT1H
BEGIN:VTIMEZONE
TZID:Europe/Berlin
BEGIN:DAYLIGHT
TZOFFSETFROM:+0100
TZOFFSETTO:+0200
TZNAME:CEST
DTSTART:20270328T010000
END:DAYLIGHT
BEGIN:STANDARD
TZOFFSETFROM:+0200
TZOFFSETTO:+0100
TZNAME:CET
DTSTART:20271031T010000
END:STANDARD
BEGIN:DAYLIGHT
TZOFFSETFROM:+0100
TZOFFSETTO:+0200
TZNAME:CEST
DTSTART:20280326T010000
END:DAYLIGHT
BEGIN:STANDARD
TZOFFSETFROM:+0200
TZOFFSETTO:+0100
TZNAME:CET
DTSTART:20281029T010000
END:STANDARD
BEGIN:DAYLIGHT
TZOFFSETFROM:+0100
TZOFFSETTO:+0200
TZNAME:CEST
DTSTART:20290325T010000
END:DAYLIGHT
BEGIN:STANDARD
TZOFFSETFROM:+0200
TZOFFSETTO:+0100
TZNAME:CET
DTSTART:20291028T010000
END:STANDARD
END:VTIMEZONE
BEGIN:VEVENT
DTSTART;TZID=Europe/Berlin:20280602T083000
DTEND;TZID=Europe/Berlin:20280602T090000
DTSTAMP:20260423T081613
CREATED:20260408T193933Z
LAST-MODIFIED:20260408T204544Z
UID:10001735-1843547400-1843549200@kressezweipunktnull.de
SUMMARY:Yoga Workout
DESCRIPTION:30 Minuten\, die es in sich haben. \nDer effiziente Power-Start in deinen Freitagmorgen. In diesem knackigen 30-Minuten-Format fokussieren wir uns auf kraftvolle Flows\, Halteübungen und funktionelle Bewegungen. Wir verschwenden keine Zeit: Wir stärken gezielt deine Körpermitte\, fordern die Muskulatur und heben dein Energielevel für das anstehende Wochenende. Ein intensives Training für spürbare Stabilität und inneren Fokus. \nFür wen: Alle\, die sich in einer halben Stunde richtig fordern wollen (ab sofort buchbar).\nWann: Freitags\, 08:30 – 09:00 Uhr\nKosten: 90 € (10er Karte\, 12 Wochen gültig) \n 
URL:https://kressezweipunktnull.de/events/yoga-workout/2028-06-02/
LOCATION:Kresse zweipunktnull – Studio zweipunktnull\, Kressenberg 2\, Hattingen\, 45529\, Germany
CATEGORIES:Bewegung & Gesundheit
ATTACH;FMTTYPE=image/png:https://kressezweipunktnull.de/wp-content/uploads/2026/04/Yoga-von-Morgen-Website-gelb.png
ORGANIZER;CN="Yoga von Morgen":MAILTO:info@yogavonmorgen.de
END:VEVENT
BEGIN:VEVENT
DTSTART;TZID=Europe/Berlin:20280609T083000
DTEND;TZID=Europe/Berlin:20280609T090000
DTSTAMP:20260423T081613
CREATED:20260408T193933Z
LAST-MODIFIED:20260408T204544Z
UID:10001736-1844152200-1844154000@kressezweipunktnull.de
SUMMARY:Yoga Workout
DESCRIPTION:30 Minuten\, die es in sich haben. \nDer effiziente Power-Start in deinen Freitagmorgen. In diesem knackigen 30-Minuten-Format fokussieren wir uns auf kraftvolle Flows\, Halteübungen und funktionelle Bewegungen. Wir verschwenden keine Zeit: Wir stärken gezielt deine Körpermitte\, fordern die Muskulatur und heben dein Energielevel für das anstehende Wochenende. Ein intensives Training für spürbare Stabilität und inneren Fokus. \nFür wen: Alle\, die sich in einer halben Stunde richtig fordern wollen (ab sofort buchbar).\nWann: Freitags\, 08:30 – 09:00 Uhr\nKosten: 90 € (10er Karte\, 12 Wochen gültig) \n 
URL:https://kressezweipunktnull.de/events/yoga-workout/2028-06-09/
LOCATION:Kresse zweipunktnull – Studio zweipunktnull\, Kressenberg 2\, Hattingen\, 45529\, Germany
CATEGORIES:Bewegung & Gesundheit
ATTACH;FMTTYPE=image/png:https://kressezweipunktnull.de/wp-content/uploads/2026/04/Yoga-von-Morgen-Website-gelb.png
ORGANIZER;CN="Yoga von Morgen":MAILTO:info@yogavonmorgen.de
END:VEVENT
BEGIN:VEVENT
DTSTART;TZID=Europe/Berlin:20280616T083000
DTEND;TZID=Europe/Berlin:20280616T090000
DTSTAMP:20260423T081613
CREATED:20260408T193933Z
LAST-MODIFIED:20260408T204544Z
UID:10001737-1844757000-1844758800@kressezweipunktnull.de
SUMMARY:Yoga Workout
DESCRIPTION:30 Minuten\, die es in sich haben. \nDer effiziente Power-Start in deinen Freitagmorgen. In diesem knackigen 30-Minuten-Format fokussieren wir uns auf kraftvolle Flows\, Halteübungen und funktionelle Bewegungen. Wir verschwenden keine Zeit: Wir stärken gezielt deine Körpermitte\, fordern die Muskulatur und heben dein Energielevel für das anstehende Wochenende. Ein intensives Training für spürbare Stabilität und inneren Fokus. \nFür wen: Alle\, die sich in einer halben Stunde richtig fordern wollen (ab sofort buchbar).\nWann: Freitags\, 08:30 – 09:00 Uhr\nKosten: 90 € (10er Karte\, 12 Wochen gültig) \n 
URL:https://kressezweipunktnull.de/events/yoga-workout/2028-06-16/
LOCATION:Kresse zweipunktnull – Studio zweipunktnull\, Kressenberg 2\, Hattingen\, 45529\, Germany
CATEGORIES:Bewegung & Gesundheit
ATTACH;FMTTYPE=image/png:https://kressezweipunktnull.de/wp-content/uploads/2026/04/Yoga-von-Morgen-Website-gelb.png
ORGANIZER;CN="Yoga von Morgen":MAILTO:info@yogavonmorgen.de
END:VEVENT
BEGIN:VEVENT
DTSTART;TZID=Europe/Berlin:20280623T083000
DTEND;TZID=Europe/Berlin:20280623T090000
DTSTAMP:20260423T081613
CREATED:20260408T193933Z
LAST-MODIFIED:20260408T204544Z
UID:10001738-1845361800-1845363600@kressezweipunktnull.de
SUMMARY:Yoga Workout
DESCRIPTION:30 Minuten\, die es in sich haben. \nDer effiziente Power-Start in deinen Freitagmorgen. In diesem knackigen 30-Minuten-Format fokussieren wir uns auf kraftvolle Flows\, Halteübungen und funktionelle Bewegungen. Wir verschwenden keine Zeit: Wir stärken gezielt deine Körpermitte\, fordern die Muskulatur und heben dein Energielevel für das anstehende Wochenende. Ein intensives Training für spürbare Stabilität und inneren Fokus. \nFür wen: Alle\, die sich in einer halben Stunde richtig fordern wollen (ab sofort buchbar).\nWann: Freitags\, 08:30 – 09:00 Uhr\nKosten: 90 € (10er Karte\, 12 Wochen gültig) \n 
URL:https://kressezweipunktnull.de/events/yoga-workout/2028-06-23/
LOCATION:Kresse zweipunktnull – Studio zweipunktnull\, Kressenberg 2\, Hattingen\, 45529\, Germany
CATEGORIES:Bewegung & Gesundheit
ATTACH;FMTTYPE=image/png:https://kressezweipunktnull.de/wp-content/uploads/2026/04/Yoga-von-Morgen-Website-gelb.png
ORGANIZER;CN="Yoga von Morgen":MAILTO:info@yogavonmorgen.de
END:VEVENT
BEGIN:VEVENT
DTSTART;TZID=Europe/Berlin:20280630T083000
DTEND;TZID=Europe/Berlin:20280630T090000
DTSTAMP:20260423T081613
CREATED:20260408T193933Z
LAST-MODIFIED:20260408T204544Z
UID:10001739-1845966600-1845968400@kressezweipunktnull.de
SUMMARY:Yoga Workout
DESCRIPTION:30 Minuten\, die es in sich haben. \nDer effiziente Power-Start in deinen Freitagmorgen. In diesem knackigen 30-Minuten-Format fokussieren wir uns auf kraftvolle Flows\, Halteübungen und funktionelle Bewegungen. Wir verschwenden keine Zeit: Wir stärken gezielt deine Körpermitte\, fordern die Muskulatur und heben dein Energielevel für das anstehende Wochenende. Ein intensives Training für spürbare Stabilität und inneren Fokus. \nFür wen: Alle\, die sich in einer halben Stunde richtig fordern wollen (ab sofort buchbar).\nWann: Freitags\, 08:30 – 09:00 Uhr\nKosten: 90 € (10er Karte\, 12 Wochen gültig) \n 
URL:https://kressezweipunktnull.de/events/yoga-workout/2028-06-30/
LOCATION:Kresse zweipunktnull – Studio zweipunktnull\, Kressenberg 2\, Hattingen\, 45529\, Germany
CATEGORIES:Bewegung & Gesundheit
ATTACH;FMTTYPE=image/png:https://kressezweipunktnull.de/wp-content/uploads/2026/04/Yoga-von-Morgen-Website-gelb.png
ORGANIZER;CN="Yoga von Morgen":MAILTO:info@yogavonmorgen.de
END:VEVENT
END:VCALENDAR