BEGIN:VCALENDAR
VERSION:2.0
PRODID:-//Kresse zweipunktnull - ECPv6.15.20//NONSGML v1.0//EN
CALSCALE:GREGORIAN
METHOD:PUBLISH
X-WR-CALNAME:Kresse zweipunktnull
X-ORIGINAL-URL:https://kressezweipunktnull.de
X-WR-CALDESC:Veranstaltungen für Kresse zweipunktnull
REFRESH-INTERVAL;VALUE=DURATION:PT1H
X-Robots-Tag:noindex
X-PUBLISHED-TTL:PT1H
BEGIN:VTIMEZONE
TZID:Europe/Berlin
BEGIN:DAYLIGHT
TZOFFSETFROM:+0100
TZOFFSETTO:+0200
TZNAME:CEST
DTSTART:20250330T010000
END:DAYLIGHT
BEGIN:STANDARD
TZOFFSETFROM:+0200
TZOFFSETTO:+0100
TZNAME:CET
DTSTART:20251026T010000
END:STANDARD
BEGIN:DAYLIGHT
TZOFFSETFROM:+0100
TZOFFSETTO:+0200
TZNAME:CEST
DTSTART:20260329T010000
END:DAYLIGHT
BEGIN:STANDARD
TZOFFSETFROM:+0200
TZOFFSETTO:+0100
TZNAME:CET
DTSTART:20261025T010000
END:STANDARD
BEGIN:DAYLIGHT
TZOFFSETFROM:+0100
TZOFFSETTO:+0200
TZNAME:CEST
DTSTART:20270328T010000
END:DAYLIGHT
BEGIN:STANDARD
TZOFFSETFROM:+0200
TZOFFSETTO:+0100
TZNAME:CET
DTSTART:20271031T010000
END:STANDARD
END:VTIMEZONE
BEGIN:VEVENT
DTSTART;TZID=Europe/Berlin:20261002T083000
DTEND;TZID=Europe/Berlin:20261002T090000
DTSTAMP:20260421T190504
CREATED:20260408T193933Z
LAST-MODIFIED:20260408T204544Z
UID:10001648-1790929800-1790931600@kressezweipunktnull.de
SUMMARY:Yoga Workout
DESCRIPTION:30 Minuten\, die es in sich haben. \nDer effiziente Power-Start in deinen Freitagmorgen. In diesem knackigen 30-Minuten-Format fokussieren wir uns auf kraftvolle Flows\, Halteübungen und funktionelle Bewegungen. Wir verschwenden keine Zeit: Wir stärken gezielt deine Körpermitte\, fordern die Muskulatur und heben dein Energielevel für das anstehende Wochenende. Ein intensives Training für spürbare Stabilität und inneren Fokus. \nFür wen: Alle\, die sich in einer halben Stunde richtig fordern wollen (ab sofort buchbar).\nWann: Freitags\, 08:30 – 09:00 Uhr\nKosten: 90 € (10er Karte\, 12 Wochen gültig) \n 
URL:https://kressezweipunktnull.de/events/yoga-workout/2026-10-02/
LOCATION:Kresse zweipunktnull – Studio zweipunktnull\, Kressenberg 2\, Hattingen\, 45529\, Germany
CATEGORIES:Bewegung & Gesundheit
ATTACH;FMTTYPE=image/png:https://kressezweipunktnull.de/wp-content/uploads/2026/04/Yoga-von-Morgen-Website-gelb.png
ORGANIZER;CN="Yoga von Morgen":MAILTO:info@yogavonmorgen.de
END:VEVENT
BEGIN:VEVENT
DTSTART;TZID=Europe/Berlin:20261009T083000
DTEND;TZID=Europe/Berlin:20261009T090000
DTSTAMP:20260421T190504
CREATED:20260408T193933Z
LAST-MODIFIED:20260408T204544Z
UID:10001649-1791534600-1791536400@kressezweipunktnull.de
SUMMARY:Yoga Workout
DESCRIPTION:30 Minuten\, die es in sich haben. \nDer effiziente Power-Start in deinen Freitagmorgen. In diesem knackigen 30-Minuten-Format fokussieren wir uns auf kraftvolle Flows\, Halteübungen und funktionelle Bewegungen. Wir verschwenden keine Zeit: Wir stärken gezielt deine Körpermitte\, fordern die Muskulatur und heben dein Energielevel für das anstehende Wochenende. Ein intensives Training für spürbare Stabilität und inneren Fokus. \nFür wen: Alle\, die sich in einer halben Stunde richtig fordern wollen (ab sofort buchbar).\nWann: Freitags\, 08:30 – 09:00 Uhr\nKosten: 90 € (10er Karte\, 12 Wochen gültig) \n 
URL:https://kressezweipunktnull.de/events/yoga-workout/2026-10-09/
LOCATION:Kresse zweipunktnull – Studio zweipunktnull\, Kressenberg 2\, Hattingen\, 45529\, Germany
CATEGORIES:Bewegung & Gesundheit
ATTACH;FMTTYPE=image/png:https://kressezweipunktnull.de/wp-content/uploads/2026/04/Yoga-von-Morgen-Website-gelb.png
ORGANIZER;CN="Yoga von Morgen":MAILTO:info@yogavonmorgen.de
END:VEVENT
BEGIN:VEVENT
DTSTART;TZID=Europe/Berlin:20261016T083000
DTEND;TZID=Europe/Berlin:20261016T090000
DTSTAMP:20260421T190504
CREATED:20260408T193933Z
LAST-MODIFIED:20260408T204544Z
UID:10001650-1792139400-1792141200@kressezweipunktnull.de
SUMMARY:Yoga Workout
DESCRIPTION:30 Minuten\, die es in sich haben. \nDer effiziente Power-Start in deinen Freitagmorgen. In diesem knackigen 30-Minuten-Format fokussieren wir uns auf kraftvolle Flows\, Halteübungen und funktionelle Bewegungen. Wir verschwenden keine Zeit: Wir stärken gezielt deine Körpermitte\, fordern die Muskulatur und heben dein Energielevel für das anstehende Wochenende. Ein intensives Training für spürbare Stabilität und inneren Fokus. \nFür wen: Alle\, die sich in einer halben Stunde richtig fordern wollen (ab sofort buchbar).\nWann: Freitags\, 08:30 – 09:00 Uhr\nKosten: 90 € (10er Karte\, 12 Wochen gültig) \n 
URL:https://kressezweipunktnull.de/events/yoga-workout/2026-10-16/
LOCATION:Kresse zweipunktnull – Studio zweipunktnull\, Kressenberg 2\, Hattingen\, 45529\, Germany
CATEGORIES:Bewegung & Gesundheit
ATTACH;FMTTYPE=image/png:https://kressezweipunktnull.de/wp-content/uploads/2026/04/Yoga-von-Morgen-Website-gelb.png
ORGANIZER;CN="Yoga von Morgen":MAILTO:info@yogavonmorgen.de
END:VEVENT
BEGIN:VEVENT
DTSTART;TZID=Europe/Berlin:20261023T083000
DTEND;TZID=Europe/Berlin:20261023T090000
DTSTAMP:20260421T190504
CREATED:20260408T193933Z
LAST-MODIFIED:20260408T204544Z
UID:10001651-1792744200-1792746000@kressezweipunktnull.de
SUMMARY:Yoga Workout
DESCRIPTION:30 Minuten\, die es in sich haben. \nDer effiziente Power-Start in deinen Freitagmorgen. In diesem knackigen 30-Minuten-Format fokussieren wir uns auf kraftvolle Flows\, Halteübungen und funktionelle Bewegungen. Wir verschwenden keine Zeit: Wir stärken gezielt deine Körpermitte\, fordern die Muskulatur und heben dein Energielevel für das anstehende Wochenende. Ein intensives Training für spürbare Stabilität und inneren Fokus. \nFür wen: Alle\, die sich in einer halben Stunde richtig fordern wollen (ab sofort buchbar).\nWann: Freitags\, 08:30 – 09:00 Uhr\nKosten: 90 € (10er Karte\, 12 Wochen gültig) \n 
URL:https://kressezweipunktnull.de/events/yoga-workout/2026-10-23/
LOCATION:Kresse zweipunktnull – Studio zweipunktnull\, Kressenberg 2\, Hattingen\, 45529\, Germany
CATEGORIES:Bewegung & Gesundheit
ATTACH;FMTTYPE=image/png:https://kressezweipunktnull.de/wp-content/uploads/2026/04/Yoga-von-Morgen-Website-gelb.png
ORGANIZER;CN="Yoga von Morgen":MAILTO:info@yogavonmorgen.de
END:VEVENT
BEGIN:VEVENT
DTSTART;TZID=Europe/Berlin:20261030T083000
DTEND;TZID=Europe/Berlin:20261030T090000
DTSTAMP:20260421T190504
CREATED:20260408T193933Z
LAST-MODIFIED:20260408T204544Z
UID:10001652-1793349000-1793350800@kressezweipunktnull.de
SUMMARY:Yoga Workout
DESCRIPTION:30 Minuten\, die es in sich haben. \nDer effiziente Power-Start in deinen Freitagmorgen. In diesem knackigen 30-Minuten-Format fokussieren wir uns auf kraftvolle Flows\, Halteübungen und funktionelle Bewegungen. Wir verschwenden keine Zeit: Wir stärken gezielt deine Körpermitte\, fordern die Muskulatur und heben dein Energielevel für das anstehende Wochenende. Ein intensives Training für spürbare Stabilität und inneren Fokus. \nFür wen: Alle\, die sich in einer halben Stunde richtig fordern wollen (ab sofort buchbar).\nWann: Freitags\, 08:30 – 09:00 Uhr\nKosten: 90 € (10er Karte\, 12 Wochen gültig) \n 
URL:https://kressezweipunktnull.de/events/yoga-workout/2026-10-30/
LOCATION:Kresse zweipunktnull – Studio zweipunktnull\, Kressenberg 2\, Hattingen\, 45529\, Germany
CATEGORIES:Bewegung & Gesundheit
ATTACH;FMTTYPE=image/png:https://kressezweipunktnull.de/wp-content/uploads/2026/04/Yoga-von-Morgen-Website-gelb.png
ORGANIZER;CN="Yoga von Morgen":MAILTO:info@yogavonmorgen.de
END:VEVENT
END:VCALENDAR