BEGIN:VCALENDAR
VERSION:2.0
PRODID:-//Kresse zweipunktnull - ECPv6.15.20//NONSGML v1.0//EN
CALSCALE:GREGORIAN
METHOD:PUBLISH
X-WR-CALNAME:Kresse zweipunktnull
X-ORIGINAL-URL:https://kressezweipunktnull.de
X-WR-CALDESC:Veranstaltungen für Kresse zweipunktnull
REFRESH-INTERVAL;VALUE=DURATION:PT1H
X-Robots-Tag:noindex
X-PUBLISHED-TTL:PT1H
BEGIN:VTIMEZONE
TZID:Europe/Berlin
BEGIN:DAYLIGHT
TZOFFSETFROM:+0100
TZOFFSETTO:+0200
TZNAME:CEST
DTSTART:20280326T010000
END:DAYLIGHT
BEGIN:STANDARD
TZOFFSETFROM:+0200
TZOFFSETTO:+0100
TZNAME:CET
DTSTART:20281029T010000
END:STANDARD
BEGIN:DAYLIGHT
TZOFFSETFROM:+0100
TZOFFSETTO:+0200
TZNAME:CEST
DTSTART:20290325T010000
END:DAYLIGHT
BEGIN:STANDARD
TZOFFSETFROM:+0200
TZOFFSETTO:+0100
TZNAME:CET
DTSTART:20291028T010000
END:STANDARD
BEGIN:DAYLIGHT
TZOFFSETFROM:+0100
TZOFFSETTO:+0200
TZNAME:CEST
DTSTART:20300331T010000
END:DAYLIGHT
BEGIN:STANDARD
TZOFFSETFROM:+0200
TZOFFSETTO:+0100
TZNAME:CET
DTSTART:20301027T010000
END:STANDARD
END:VTIMEZONE
BEGIN:VEVENT
DTSTART;TZID=Europe/Berlin:20290903T183000
DTEND;TZID=Europe/Berlin:20290903T200000
DTSTAMP:20260422T014942
CREATED:20260406T114312Z
LAST-MODIFIED:20260408T195018Z
UID:10001039-1883154600-1883160000@kressezweipunktnull.de
SUMMARY:Pfadfinder – Gruppenstunde Pfadfinder (Pfadis)
DESCRIPTION:Pfadfinder Stamm Isenburg – Gruppenstunde Pfadfinder (Pfadis) – Jugendliche von 12-16 Jahren \nAbenteuer erleben\, gemeinsam lachen und Neues entdecken – das erwartet dich bei unseren Pfadis vom Stamm Isenburg! In unseren Gruppenstunden machen wir sowohl Geländespiele als auch eure eigenen Projekte\, bauen Schwedenstühle\, stärken unseren Teamgeist und wagen Neues. Wenn du Lust hast\, andere Jugendliche kennenzulernen\, Gemeinschaft und Abenteuer zu erleben\, komm einfach vorbei! \nUnsere Pfadis treffen sich jeden Montag von 18:30-20 Uhr in der Kresse zweipunktnull zur Gruppenstunde. \nIn den regulären Ferienzeiten finden keine Gruppenstunden statt.
URL:https://kressezweipunktnull.de/events/pfadfinder-stamm-isenburg-gruppenstunde-pfadfinder-pfadis-12-16-jahre/2029-09-03/
LOCATION:Kresse zweipunktnull – Die blaue Bar & der Nebenraum\, Kressenberg 2\, Hattingen\, 45529\, Germany
CATEGORIES:Begegnung & Gemeinschaft,Natur & Umwelt
ATTACH;FMTTYPE=image/png:https://kressezweipunktnull.de/wp-content/uploads/2026/03/Pfadis16_9.png
END:VEVENT
BEGIN:VEVENT
DTSTART;TZID=Europe/Berlin:20290905T180000
DTEND;TZID=Europe/Berlin:20290905T193000
DTSTAMP:20260422T014942
CREATED:20260406T110235Z
LAST-MODIFIED:20260408T194919Z
UID:10001288-1883325600-1883331000@kressezweipunktnull.de
SUMMARY:Pfadfinder – Gruppenstunde Juffis
DESCRIPTION:Pfadfinder Stamm Isenburg – Gruppenstunde Juffis (Jungpfadfinder) \nKinder von 9-13 Jahren \nAbenteuer erleben\, draußen spielen\, gemeinsam lachen und Neues entdecken – das erwartet dich bei unseren Juffis vom Stamm Isenburg! In unseren Gruppenstunden machen wir viele Geländespiele\, starten erste eigene Projekte\, stärken unseren Teamgeist und unsere Selbstständigkeit und lernen weitere Pfadfinder Eigenschaften. Wenn du Lust hast\, Gemeinschaft und Abenteuer zu erleben\, komm einfach vorbei! \nUnsere Juffis treffen sich jeden Mittwoch von 18:00-19:30 Uhr in der Kresse zweipunktnull zur Gruppenstunde. \nIn den regulären Ferienzeiten finden keine Gruppenstunden statt.
URL:https://kressezweipunktnull.de/events/pfadfinder-stamm-isenburg-gruppenstunde-juffis/2029-09-05/
LOCATION:Kresse zweipunktnull – Die blaue Bar & der Nebenraum\, Kressenberg 2\, Hattingen\, 45529\, Germany
CATEGORIES:Begegnung & Gemeinschaft,Natur & Umwelt
ATTACH;FMTTYPE=image/png:https://kressezweipunktnull.de/wp-content/uploads/2026/03/Pfadis16_9.png
END:VEVENT
BEGIN:VEVENT
DTSTART;TZID=Europe/Berlin:20290907T173000
DTEND;TZID=Europe/Berlin:20290907T190000
DTSTAMP:20260422T014942
CREATED:20260406T112519Z
LAST-MODIFIED:20260408T195217Z
UID:10000791-1883496600-1883502000@kressezweipunktnull.de
SUMMARY:Pfadfinder – Gruppenstunde Wölflinge
DESCRIPTION:Pfadfinder Stamm Isenburg – Gruppenstunde Wölflinge – Kinder von 7-10 Jahren \nAbenteuer erleben\, draußen spielen\, gemeinsam lachen und Neues entdecken – das erwartet dich bei unseren Wölflingen vom Stamm Isenburg! In unseren Gruppenstunden machen wir spannende (Gelände-)spiele\, sind wenn es geht in der Natur unterwegs\, basteln\, stärken unseren Teamgeist und lernen wichtige Pfadfinder Eigenschaften. Wenn du Lust hast\, neue Freunde kennenzulernen\, Gemeinschaft und Abenteuer zu erleben\, komm einfach vorbei! \nUnsere Wölflinge treffen sich jeden Freitag von 17:30-19 Uhr in der Kresse zweipunktnull zur Gruppenstunde. \nIn den regulären Ferienzeiten finden keine Gruppenstunden statt.
URL:https://kressezweipunktnull.de/events/pfadfinder-stamm-isenburg-gruppenstunde-woelflinge/2029-09-07/
LOCATION:Kresse zweipunktnull – Die blaue Bar & der Nebenraum\, Kressenberg 2\, Hattingen\, 45529\, Germany
CATEGORIES:Begegnung & Gemeinschaft,Natur & Umwelt
ATTACH;FMTTYPE=image/png:https://kressezweipunktnull.de/wp-content/uploads/2026/03/Pfadis16_9.png
END:VEVENT
BEGIN:VEVENT
DTSTART;TZID=Europe/Berlin:20290910T183000
DTEND;TZID=Europe/Berlin:20290910T200000
DTSTAMP:20260422T014942
CREATED:20260406T114312Z
LAST-MODIFIED:20260408T195018Z
UID:10001040-1883759400-1883764800@kressezweipunktnull.de
SUMMARY:Pfadfinder – Gruppenstunde Pfadfinder (Pfadis)
DESCRIPTION:Pfadfinder Stamm Isenburg – Gruppenstunde Pfadfinder (Pfadis) – Jugendliche von 12-16 Jahren \nAbenteuer erleben\, gemeinsam lachen und Neues entdecken – das erwartet dich bei unseren Pfadis vom Stamm Isenburg! In unseren Gruppenstunden machen wir sowohl Geländespiele als auch eure eigenen Projekte\, bauen Schwedenstühle\, stärken unseren Teamgeist und wagen Neues. Wenn du Lust hast\, andere Jugendliche kennenzulernen\, Gemeinschaft und Abenteuer zu erleben\, komm einfach vorbei! \nUnsere Pfadis treffen sich jeden Montag von 18:30-20 Uhr in der Kresse zweipunktnull zur Gruppenstunde. \nIn den regulären Ferienzeiten finden keine Gruppenstunden statt.
URL:https://kressezweipunktnull.de/events/pfadfinder-stamm-isenburg-gruppenstunde-pfadfinder-pfadis-12-16-jahre/2029-09-10/
LOCATION:Kresse zweipunktnull – Die blaue Bar & der Nebenraum\, Kressenberg 2\, Hattingen\, 45529\, Germany
CATEGORIES:Begegnung & Gemeinschaft,Natur & Umwelt
ATTACH;FMTTYPE=image/png:https://kressezweipunktnull.de/wp-content/uploads/2026/03/Pfadis16_9.png
END:VEVENT
BEGIN:VEVENT
DTSTART;TZID=Europe/Berlin:20290912T180000
DTEND;TZID=Europe/Berlin:20290912T193000
DTSTAMP:20260422T014942
CREATED:20260406T110235Z
LAST-MODIFIED:20260408T194919Z
UID:10001289-1883930400-1883935800@kressezweipunktnull.de
SUMMARY:Pfadfinder – Gruppenstunde Juffis
DESCRIPTION:Pfadfinder Stamm Isenburg – Gruppenstunde Juffis (Jungpfadfinder) \nKinder von 9-13 Jahren \nAbenteuer erleben\, draußen spielen\, gemeinsam lachen und Neues entdecken – das erwartet dich bei unseren Juffis vom Stamm Isenburg! In unseren Gruppenstunden machen wir viele Geländespiele\, starten erste eigene Projekte\, stärken unseren Teamgeist und unsere Selbstständigkeit und lernen weitere Pfadfinder Eigenschaften. Wenn du Lust hast\, Gemeinschaft und Abenteuer zu erleben\, komm einfach vorbei! \nUnsere Juffis treffen sich jeden Mittwoch von 18:00-19:30 Uhr in der Kresse zweipunktnull zur Gruppenstunde. \nIn den regulären Ferienzeiten finden keine Gruppenstunden statt.
URL:https://kressezweipunktnull.de/events/pfadfinder-stamm-isenburg-gruppenstunde-juffis/2029-09-12/
LOCATION:Kresse zweipunktnull – Die blaue Bar & der Nebenraum\, Kressenberg 2\, Hattingen\, 45529\, Germany
CATEGORIES:Begegnung & Gemeinschaft,Natur & Umwelt
ATTACH;FMTTYPE=image/png:https://kressezweipunktnull.de/wp-content/uploads/2026/03/Pfadis16_9.png
END:VEVENT
BEGIN:VEVENT
DTSTART;TZID=Europe/Berlin:20290914T173000
DTEND;TZID=Europe/Berlin:20290914T190000
DTSTAMP:20260422T014942
CREATED:20260406T112519Z
LAST-MODIFIED:20260408T195217Z
UID:10000792-1884101400-1884106800@kressezweipunktnull.de
SUMMARY:Pfadfinder – Gruppenstunde Wölflinge
DESCRIPTION:Pfadfinder Stamm Isenburg – Gruppenstunde Wölflinge – Kinder von 7-10 Jahren \nAbenteuer erleben\, draußen spielen\, gemeinsam lachen und Neues entdecken – das erwartet dich bei unseren Wölflingen vom Stamm Isenburg! In unseren Gruppenstunden machen wir spannende (Gelände-)spiele\, sind wenn es geht in der Natur unterwegs\, basteln\, stärken unseren Teamgeist und lernen wichtige Pfadfinder Eigenschaften. Wenn du Lust hast\, neue Freunde kennenzulernen\, Gemeinschaft und Abenteuer zu erleben\, komm einfach vorbei! \nUnsere Wölflinge treffen sich jeden Freitag von 17:30-19 Uhr in der Kresse zweipunktnull zur Gruppenstunde. \nIn den regulären Ferienzeiten finden keine Gruppenstunden statt.
URL:https://kressezweipunktnull.de/events/pfadfinder-stamm-isenburg-gruppenstunde-woelflinge/2029-09-14/
LOCATION:Kresse zweipunktnull – Die blaue Bar & der Nebenraum\, Kressenberg 2\, Hattingen\, 45529\, Germany
CATEGORIES:Begegnung & Gemeinschaft,Natur & Umwelt
ATTACH;FMTTYPE=image/png:https://kressezweipunktnull.de/wp-content/uploads/2026/03/Pfadis16_9.png
END:VEVENT
BEGIN:VEVENT
DTSTART;TZID=Europe/Berlin:20290917T183000
DTEND;TZID=Europe/Berlin:20290917T200000
DTSTAMP:20260422T014942
CREATED:20260406T114312Z
LAST-MODIFIED:20260408T195018Z
UID:10001041-1884364200-1884369600@kressezweipunktnull.de
SUMMARY:Pfadfinder – Gruppenstunde Pfadfinder (Pfadis)
DESCRIPTION:Pfadfinder Stamm Isenburg – Gruppenstunde Pfadfinder (Pfadis) – Jugendliche von 12-16 Jahren \nAbenteuer erleben\, gemeinsam lachen und Neues entdecken – das erwartet dich bei unseren Pfadis vom Stamm Isenburg! In unseren Gruppenstunden machen wir sowohl Geländespiele als auch eure eigenen Projekte\, bauen Schwedenstühle\, stärken unseren Teamgeist und wagen Neues. Wenn du Lust hast\, andere Jugendliche kennenzulernen\, Gemeinschaft und Abenteuer zu erleben\, komm einfach vorbei! \nUnsere Pfadis treffen sich jeden Montag von 18:30-20 Uhr in der Kresse zweipunktnull zur Gruppenstunde. \nIn den regulären Ferienzeiten finden keine Gruppenstunden statt.
URL:https://kressezweipunktnull.de/events/pfadfinder-stamm-isenburg-gruppenstunde-pfadfinder-pfadis-12-16-jahre/2029-09-17/
LOCATION:Kresse zweipunktnull – Die blaue Bar & der Nebenraum\, Kressenberg 2\, Hattingen\, 45529\, Germany
CATEGORIES:Begegnung & Gemeinschaft,Natur & Umwelt
ATTACH;FMTTYPE=image/png:https://kressezweipunktnull.de/wp-content/uploads/2026/03/Pfadis16_9.png
END:VEVENT
BEGIN:VEVENT
DTSTART;TZID=Europe/Berlin:20290919T180000
DTEND;TZID=Europe/Berlin:20290919T193000
DTSTAMP:20260422T014942
CREATED:20260406T110235Z
LAST-MODIFIED:20260408T194919Z
UID:10001290-1884535200-1884540600@kressezweipunktnull.de
SUMMARY:Pfadfinder – Gruppenstunde Juffis
DESCRIPTION:Pfadfinder Stamm Isenburg – Gruppenstunde Juffis (Jungpfadfinder) \nKinder von 9-13 Jahren \nAbenteuer erleben\, draußen spielen\, gemeinsam lachen und Neues entdecken – das erwartet dich bei unseren Juffis vom Stamm Isenburg! In unseren Gruppenstunden machen wir viele Geländespiele\, starten erste eigene Projekte\, stärken unseren Teamgeist und unsere Selbstständigkeit und lernen weitere Pfadfinder Eigenschaften. Wenn du Lust hast\, Gemeinschaft und Abenteuer zu erleben\, komm einfach vorbei! \nUnsere Juffis treffen sich jeden Mittwoch von 18:00-19:30 Uhr in der Kresse zweipunktnull zur Gruppenstunde. \nIn den regulären Ferienzeiten finden keine Gruppenstunden statt.
URL:https://kressezweipunktnull.de/events/pfadfinder-stamm-isenburg-gruppenstunde-juffis/2029-09-19/
LOCATION:Kresse zweipunktnull – Die blaue Bar & der Nebenraum\, Kressenberg 2\, Hattingen\, 45529\, Germany
CATEGORIES:Begegnung & Gemeinschaft,Natur & Umwelt
ATTACH;FMTTYPE=image/png:https://kressezweipunktnull.de/wp-content/uploads/2026/03/Pfadis16_9.png
END:VEVENT
BEGIN:VEVENT
DTSTART;TZID=Europe/Berlin:20290921T173000
DTEND;TZID=Europe/Berlin:20290921T190000
DTSTAMP:20260422T014942
CREATED:20260406T112519Z
LAST-MODIFIED:20260408T195217Z
UID:10000793-1884706200-1884711600@kressezweipunktnull.de
SUMMARY:Pfadfinder – Gruppenstunde Wölflinge
DESCRIPTION:Pfadfinder Stamm Isenburg – Gruppenstunde Wölflinge – Kinder von 7-10 Jahren \nAbenteuer erleben\, draußen spielen\, gemeinsam lachen und Neues entdecken – das erwartet dich bei unseren Wölflingen vom Stamm Isenburg! In unseren Gruppenstunden machen wir spannende (Gelände-)spiele\, sind wenn es geht in der Natur unterwegs\, basteln\, stärken unseren Teamgeist und lernen wichtige Pfadfinder Eigenschaften. Wenn du Lust hast\, neue Freunde kennenzulernen\, Gemeinschaft und Abenteuer zu erleben\, komm einfach vorbei! \nUnsere Wölflinge treffen sich jeden Freitag von 17:30-19 Uhr in der Kresse zweipunktnull zur Gruppenstunde. \nIn den regulären Ferienzeiten finden keine Gruppenstunden statt.
URL:https://kressezweipunktnull.de/events/pfadfinder-stamm-isenburg-gruppenstunde-woelflinge/2029-09-21/
LOCATION:Kresse zweipunktnull – Die blaue Bar & der Nebenraum\, Kressenberg 2\, Hattingen\, 45529\, Germany
CATEGORIES:Begegnung & Gemeinschaft,Natur & Umwelt
ATTACH;FMTTYPE=image/png:https://kressezweipunktnull.de/wp-content/uploads/2026/03/Pfadis16_9.png
END:VEVENT
BEGIN:VEVENT
DTSTART;TZID=Europe/Berlin:20290924T183000
DTEND;TZID=Europe/Berlin:20290924T200000
DTSTAMP:20260422T014942
CREATED:20260406T114312Z
LAST-MODIFIED:20260408T195018Z
UID:10001042-1884969000-1884974400@kressezweipunktnull.de
SUMMARY:Pfadfinder – Gruppenstunde Pfadfinder (Pfadis)
DESCRIPTION:Pfadfinder Stamm Isenburg – Gruppenstunde Pfadfinder (Pfadis) – Jugendliche von 12-16 Jahren \nAbenteuer erleben\, gemeinsam lachen und Neues entdecken – das erwartet dich bei unseren Pfadis vom Stamm Isenburg! In unseren Gruppenstunden machen wir sowohl Geländespiele als auch eure eigenen Projekte\, bauen Schwedenstühle\, stärken unseren Teamgeist und wagen Neues. Wenn du Lust hast\, andere Jugendliche kennenzulernen\, Gemeinschaft und Abenteuer zu erleben\, komm einfach vorbei! \nUnsere Pfadis treffen sich jeden Montag von 18:30-20 Uhr in der Kresse zweipunktnull zur Gruppenstunde. \nIn den regulären Ferienzeiten finden keine Gruppenstunden statt.
URL:https://kressezweipunktnull.de/events/pfadfinder-stamm-isenburg-gruppenstunde-pfadfinder-pfadis-12-16-jahre/2029-09-24/
LOCATION:Kresse zweipunktnull – Die blaue Bar & der Nebenraum\, Kressenberg 2\, Hattingen\, 45529\, Germany
CATEGORIES:Begegnung & Gemeinschaft,Natur & Umwelt
ATTACH;FMTTYPE=image/png:https://kressezweipunktnull.de/wp-content/uploads/2026/03/Pfadis16_9.png
END:VEVENT
BEGIN:VEVENT
DTSTART;TZID=Europe/Berlin:20290926T180000
DTEND;TZID=Europe/Berlin:20290926T193000
DTSTAMP:20260422T014942
CREATED:20260406T110235Z
LAST-MODIFIED:20260408T194919Z
UID:10001291-1885140000-1885145400@kressezweipunktnull.de
SUMMARY:Pfadfinder – Gruppenstunde Juffis
DESCRIPTION:Pfadfinder Stamm Isenburg – Gruppenstunde Juffis (Jungpfadfinder) \nKinder von 9-13 Jahren \nAbenteuer erleben\, draußen spielen\, gemeinsam lachen und Neues entdecken – das erwartet dich bei unseren Juffis vom Stamm Isenburg! In unseren Gruppenstunden machen wir viele Geländespiele\, starten erste eigene Projekte\, stärken unseren Teamgeist und unsere Selbstständigkeit und lernen weitere Pfadfinder Eigenschaften. Wenn du Lust hast\, Gemeinschaft und Abenteuer zu erleben\, komm einfach vorbei! \nUnsere Juffis treffen sich jeden Mittwoch von 18:00-19:30 Uhr in der Kresse zweipunktnull zur Gruppenstunde. \nIn den regulären Ferienzeiten finden keine Gruppenstunden statt.
URL:https://kressezweipunktnull.de/events/pfadfinder-stamm-isenburg-gruppenstunde-juffis/2029-09-26/
LOCATION:Kresse zweipunktnull – Die blaue Bar & der Nebenraum\, Kressenberg 2\, Hattingen\, 45529\, Germany
CATEGORIES:Begegnung & Gemeinschaft,Natur & Umwelt
ATTACH;FMTTYPE=image/png:https://kressezweipunktnull.de/wp-content/uploads/2026/03/Pfadis16_9.png
END:VEVENT
BEGIN:VEVENT
DTSTART;TZID=Europe/Berlin:20290928T173000
DTEND;TZID=Europe/Berlin:20290928T190000
DTSTAMP:20260422T014942
CREATED:20260406T112519Z
LAST-MODIFIED:20260408T195217Z
UID:10000794-1885311000-1885316400@kressezweipunktnull.de
SUMMARY:Pfadfinder – Gruppenstunde Wölflinge
DESCRIPTION:Pfadfinder Stamm Isenburg – Gruppenstunde Wölflinge – Kinder von 7-10 Jahren \nAbenteuer erleben\, draußen spielen\, gemeinsam lachen und Neues entdecken – das erwartet dich bei unseren Wölflingen vom Stamm Isenburg! In unseren Gruppenstunden machen wir spannende (Gelände-)spiele\, sind wenn es geht in der Natur unterwegs\, basteln\, stärken unseren Teamgeist und lernen wichtige Pfadfinder Eigenschaften. Wenn du Lust hast\, neue Freunde kennenzulernen\, Gemeinschaft und Abenteuer zu erleben\, komm einfach vorbei! \nUnsere Wölflinge treffen sich jeden Freitag von 17:30-19 Uhr in der Kresse zweipunktnull zur Gruppenstunde. \nIn den regulären Ferienzeiten finden keine Gruppenstunden statt.
URL:https://kressezweipunktnull.de/events/pfadfinder-stamm-isenburg-gruppenstunde-woelflinge/2029-09-28/
LOCATION:Kresse zweipunktnull – Die blaue Bar & der Nebenraum\, Kressenberg 2\, Hattingen\, 45529\, Germany
CATEGORIES:Begegnung & Gemeinschaft,Natur & Umwelt
ATTACH;FMTTYPE=image/png:https://kressezweipunktnull.de/wp-content/uploads/2026/03/Pfadis16_9.png
END:VEVENT
END:VCALENDAR