BEGIN:VCALENDAR
VERSION:2.0
PRODID:-//Kresse zweipunktnull - ECPv6.15.20//NONSGML v1.0//EN
CALSCALE:GREGORIAN
METHOD:PUBLISH
X-WR-CALNAME:Kresse zweipunktnull
X-ORIGINAL-URL:https://kressezweipunktnull.de
X-WR-CALDESC:Veranstaltungen für Kresse zweipunktnull
REFRESH-INTERVAL;VALUE=DURATION:PT1H
X-Robots-Tag:noindex
X-PUBLISHED-TTL:PT1H
BEGIN:VTIMEZONE
TZID:Europe/Berlin
BEGIN:DAYLIGHT
TZOFFSETFROM:+0100
TZOFFSETTO:+0200
TZNAME:CEST
DTSTART:20270328T010000
END:DAYLIGHT
BEGIN:STANDARD
TZOFFSETFROM:+0200
TZOFFSETTO:+0100
TZNAME:CET
DTSTART:20271031T010000
END:STANDARD
BEGIN:DAYLIGHT
TZOFFSETFROM:+0100
TZOFFSETTO:+0200
TZNAME:CEST
DTSTART:20280326T010000
END:DAYLIGHT
BEGIN:STANDARD
TZOFFSETFROM:+0200
TZOFFSETTO:+0100
TZNAME:CET
DTSTART:20281029T010000
END:STANDARD
BEGIN:DAYLIGHT
TZOFFSETFROM:+0100
TZOFFSETTO:+0200
TZNAME:CEST
DTSTART:20290325T010000
END:DAYLIGHT
BEGIN:STANDARD
TZOFFSETFROM:+0200
TZOFFSETTO:+0100
TZNAME:CET
DTSTART:20291028T010000
END:STANDARD
END:VTIMEZONE
BEGIN:VEVENT
DTSTART;TZID=Europe/Berlin:20280403T183000
DTEND;TZID=Europe/Berlin:20280403T200000
DTSTAMP:20260421T011045
CREATED:20260406T114312Z
LAST-MODIFIED:20260408T195018Z
UID:10000965-1838399400-1838404800@kressezweipunktnull.de
SUMMARY:Pfadfinder – Gruppenstunde Pfadfinder (Pfadis)
DESCRIPTION:Pfadfinder Stamm Isenburg – Gruppenstunde Pfadfinder (Pfadis) – Jugendliche von 12-16 Jahren \nAbenteuer erleben\, gemeinsam lachen und Neues entdecken – das erwartet dich bei unseren Pfadis vom Stamm Isenburg! In unseren Gruppenstunden machen wir sowohl Geländespiele als auch eure eigenen Projekte\, bauen Schwedenstühle\, stärken unseren Teamgeist und wagen Neues. Wenn du Lust hast\, andere Jugendliche kennenzulernen\, Gemeinschaft und Abenteuer zu erleben\, komm einfach vorbei! \nUnsere Pfadis treffen sich jeden Montag von 18:30-20 Uhr in der Kresse zweipunktnull zur Gruppenstunde. \nIn den regulären Ferienzeiten finden keine Gruppenstunden statt.
URL:https://kressezweipunktnull.de/events/pfadfinder-stamm-isenburg-gruppenstunde-pfadfinder-pfadis-12-16-jahre/2028-04-03/
LOCATION:Kresse zweipunktnull – Die blaue Bar & der Nebenraum\, Kressenberg 2\, Hattingen\, 45529\, Germany
CATEGORIES:Begegnung & Gemeinschaft,Natur & Umwelt
ATTACH;FMTTYPE=image/png:https://kressezweipunktnull.de/wp-content/uploads/2026/03/Pfadis16_9.png
END:VEVENT
BEGIN:VEVENT
DTSTART;TZID=Europe/Berlin:20280405T180000
DTEND;TZID=Europe/Berlin:20280405T193000
DTSTAMP:20260421T011045
CREATED:20260406T110235Z
LAST-MODIFIED:20260408T194919Z
UID:10001214-1838570400-1838575800@kressezweipunktnull.de
SUMMARY:Pfadfinder – Gruppenstunde Juffis
DESCRIPTION:Pfadfinder Stamm Isenburg – Gruppenstunde Juffis (Jungpfadfinder) \nKinder von 9-13 Jahren \nAbenteuer erleben\, draußen spielen\, gemeinsam lachen und Neues entdecken – das erwartet dich bei unseren Juffis vom Stamm Isenburg! In unseren Gruppenstunden machen wir viele Geländespiele\, starten erste eigene Projekte\, stärken unseren Teamgeist und unsere Selbstständigkeit und lernen weitere Pfadfinder Eigenschaften. Wenn du Lust hast\, Gemeinschaft und Abenteuer zu erleben\, komm einfach vorbei! \nUnsere Juffis treffen sich jeden Mittwoch von 18:00-19:30 Uhr in der Kresse zweipunktnull zur Gruppenstunde. \nIn den regulären Ferienzeiten finden keine Gruppenstunden statt.
URL:https://kressezweipunktnull.de/events/pfadfinder-stamm-isenburg-gruppenstunde-juffis/2028-04-05/
LOCATION:Kresse zweipunktnull – Die blaue Bar & der Nebenraum\, Kressenberg 2\, Hattingen\, 45529\, Germany
CATEGORIES:Begegnung & Gemeinschaft,Natur & Umwelt
ATTACH;FMTTYPE=image/png:https://kressezweipunktnull.de/wp-content/uploads/2026/03/Pfadis16_9.png
END:VEVENT
BEGIN:VEVENT
DTSTART;TZID=Europe/Berlin:20280407T173000
DTEND;TZID=Europe/Berlin:20280407T190000
DTSTAMP:20260421T011045
CREATED:20260406T112519Z
LAST-MODIFIED:20260408T195217Z
UID:10000717-1838741400-1838746800@kressezweipunktnull.de
SUMMARY:Pfadfinder – Gruppenstunde Wölflinge
DESCRIPTION:Pfadfinder Stamm Isenburg – Gruppenstunde Wölflinge – Kinder von 7-10 Jahren \nAbenteuer erleben\, draußen spielen\, gemeinsam lachen und Neues entdecken – das erwartet dich bei unseren Wölflingen vom Stamm Isenburg! In unseren Gruppenstunden machen wir spannende (Gelände-)spiele\, sind wenn es geht in der Natur unterwegs\, basteln\, stärken unseren Teamgeist und lernen wichtige Pfadfinder Eigenschaften. Wenn du Lust hast\, neue Freunde kennenzulernen\, Gemeinschaft und Abenteuer zu erleben\, komm einfach vorbei! \nUnsere Wölflinge treffen sich jeden Freitag von 17:30-19 Uhr in der Kresse zweipunktnull zur Gruppenstunde. \nIn den regulären Ferienzeiten finden keine Gruppenstunden statt.
URL:https://kressezweipunktnull.de/events/pfadfinder-stamm-isenburg-gruppenstunde-woelflinge/2028-04-07/
LOCATION:Kresse zweipunktnull – Die blaue Bar & der Nebenraum\, Kressenberg 2\, Hattingen\, 45529\, Germany
CATEGORIES:Begegnung & Gemeinschaft,Natur & Umwelt
ATTACH;FMTTYPE=image/png:https://kressezweipunktnull.de/wp-content/uploads/2026/03/Pfadis16_9.png
END:VEVENT
BEGIN:VEVENT
DTSTART;TZID=Europe/Berlin:20280410T183000
DTEND;TZID=Europe/Berlin:20280410T200000
DTSTAMP:20260421T011045
CREATED:20260406T114312Z
LAST-MODIFIED:20260408T195018Z
UID:10000966-1839004200-1839009600@kressezweipunktnull.de
SUMMARY:Pfadfinder – Gruppenstunde Pfadfinder (Pfadis)
DESCRIPTION:Pfadfinder Stamm Isenburg – Gruppenstunde Pfadfinder (Pfadis) – Jugendliche von 12-16 Jahren \nAbenteuer erleben\, gemeinsam lachen und Neues entdecken – das erwartet dich bei unseren Pfadis vom Stamm Isenburg! In unseren Gruppenstunden machen wir sowohl Geländespiele als auch eure eigenen Projekte\, bauen Schwedenstühle\, stärken unseren Teamgeist und wagen Neues. Wenn du Lust hast\, andere Jugendliche kennenzulernen\, Gemeinschaft und Abenteuer zu erleben\, komm einfach vorbei! \nUnsere Pfadis treffen sich jeden Montag von 18:30-20 Uhr in der Kresse zweipunktnull zur Gruppenstunde. \nIn den regulären Ferienzeiten finden keine Gruppenstunden statt.
URL:https://kressezweipunktnull.de/events/pfadfinder-stamm-isenburg-gruppenstunde-pfadfinder-pfadis-12-16-jahre/2028-04-10/
LOCATION:Kresse zweipunktnull – Die blaue Bar & der Nebenraum\, Kressenberg 2\, Hattingen\, 45529\, Germany
CATEGORIES:Begegnung & Gemeinschaft,Natur & Umwelt
ATTACH;FMTTYPE=image/png:https://kressezweipunktnull.de/wp-content/uploads/2026/03/Pfadis16_9.png
END:VEVENT
BEGIN:VEVENT
DTSTART;TZID=Europe/Berlin:20280412T180000
DTEND;TZID=Europe/Berlin:20280412T193000
DTSTAMP:20260421T011045
CREATED:20260406T110235Z
LAST-MODIFIED:20260408T194919Z
UID:10001215-1839175200-1839180600@kressezweipunktnull.de
SUMMARY:Pfadfinder – Gruppenstunde Juffis
DESCRIPTION:Pfadfinder Stamm Isenburg – Gruppenstunde Juffis (Jungpfadfinder) \nKinder von 9-13 Jahren \nAbenteuer erleben\, draußen spielen\, gemeinsam lachen und Neues entdecken – das erwartet dich bei unseren Juffis vom Stamm Isenburg! In unseren Gruppenstunden machen wir viele Geländespiele\, starten erste eigene Projekte\, stärken unseren Teamgeist und unsere Selbstständigkeit und lernen weitere Pfadfinder Eigenschaften. Wenn du Lust hast\, Gemeinschaft und Abenteuer zu erleben\, komm einfach vorbei! \nUnsere Juffis treffen sich jeden Mittwoch von 18:00-19:30 Uhr in der Kresse zweipunktnull zur Gruppenstunde. \nIn den regulären Ferienzeiten finden keine Gruppenstunden statt.
URL:https://kressezweipunktnull.de/events/pfadfinder-stamm-isenburg-gruppenstunde-juffis/2028-04-12/
LOCATION:Kresse zweipunktnull – Die blaue Bar & der Nebenraum\, Kressenberg 2\, Hattingen\, 45529\, Germany
CATEGORIES:Begegnung & Gemeinschaft,Natur & Umwelt
ATTACH;FMTTYPE=image/png:https://kressezweipunktnull.de/wp-content/uploads/2026/03/Pfadis16_9.png
END:VEVENT
BEGIN:VEVENT
DTSTART;TZID=Europe/Berlin:20280414T173000
DTEND;TZID=Europe/Berlin:20280414T190000
DTSTAMP:20260421T011045
CREATED:20260406T112519Z
LAST-MODIFIED:20260408T195217Z
UID:10000718-1839346200-1839351600@kressezweipunktnull.de
SUMMARY:Pfadfinder – Gruppenstunde Wölflinge
DESCRIPTION:Pfadfinder Stamm Isenburg – Gruppenstunde Wölflinge – Kinder von 7-10 Jahren \nAbenteuer erleben\, draußen spielen\, gemeinsam lachen und Neues entdecken – das erwartet dich bei unseren Wölflingen vom Stamm Isenburg! In unseren Gruppenstunden machen wir spannende (Gelände-)spiele\, sind wenn es geht in der Natur unterwegs\, basteln\, stärken unseren Teamgeist und lernen wichtige Pfadfinder Eigenschaften. Wenn du Lust hast\, neue Freunde kennenzulernen\, Gemeinschaft und Abenteuer zu erleben\, komm einfach vorbei! \nUnsere Wölflinge treffen sich jeden Freitag von 17:30-19 Uhr in der Kresse zweipunktnull zur Gruppenstunde. \nIn den regulären Ferienzeiten finden keine Gruppenstunden statt.
URL:https://kressezweipunktnull.de/events/pfadfinder-stamm-isenburg-gruppenstunde-woelflinge/2028-04-14/
LOCATION:Kresse zweipunktnull – Die blaue Bar & der Nebenraum\, Kressenberg 2\, Hattingen\, 45529\, Germany
CATEGORIES:Begegnung & Gemeinschaft,Natur & Umwelt
ATTACH;FMTTYPE=image/png:https://kressezweipunktnull.de/wp-content/uploads/2026/03/Pfadis16_9.png
END:VEVENT
BEGIN:VEVENT
DTSTART;TZID=Europe/Berlin:20280417T183000
DTEND;TZID=Europe/Berlin:20280417T200000
DTSTAMP:20260421T011045
CREATED:20260406T114312Z
LAST-MODIFIED:20260408T195018Z
UID:10000967-1839609000-1839614400@kressezweipunktnull.de
SUMMARY:Pfadfinder – Gruppenstunde Pfadfinder (Pfadis)
DESCRIPTION:Pfadfinder Stamm Isenburg – Gruppenstunde Pfadfinder (Pfadis) – Jugendliche von 12-16 Jahren \nAbenteuer erleben\, gemeinsam lachen und Neues entdecken – das erwartet dich bei unseren Pfadis vom Stamm Isenburg! In unseren Gruppenstunden machen wir sowohl Geländespiele als auch eure eigenen Projekte\, bauen Schwedenstühle\, stärken unseren Teamgeist und wagen Neues. Wenn du Lust hast\, andere Jugendliche kennenzulernen\, Gemeinschaft und Abenteuer zu erleben\, komm einfach vorbei! \nUnsere Pfadis treffen sich jeden Montag von 18:30-20 Uhr in der Kresse zweipunktnull zur Gruppenstunde. \nIn den regulären Ferienzeiten finden keine Gruppenstunden statt.
URL:https://kressezweipunktnull.de/events/pfadfinder-stamm-isenburg-gruppenstunde-pfadfinder-pfadis-12-16-jahre/2028-04-17/
LOCATION:Kresse zweipunktnull – Die blaue Bar & der Nebenraum\, Kressenberg 2\, Hattingen\, 45529\, Germany
CATEGORIES:Begegnung & Gemeinschaft,Natur & Umwelt
ATTACH;FMTTYPE=image/png:https://kressezweipunktnull.de/wp-content/uploads/2026/03/Pfadis16_9.png
END:VEVENT
BEGIN:VEVENT
DTSTART;TZID=Europe/Berlin:20280419T180000
DTEND;TZID=Europe/Berlin:20280419T193000
DTSTAMP:20260421T011045
CREATED:20260406T110235Z
LAST-MODIFIED:20260408T194919Z
UID:10001216-1839780000-1839785400@kressezweipunktnull.de
SUMMARY:Pfadfinder – Gruppenstunde Juffis
DESCRIPTION:Pfadfinder Stamm Isenburg – Gruppenstunde Juffis (Jungpfadfinder) \nKinder von 9-13 Jahren \nAbenteuer erleben\, draußen spielen\, gemeinsam lachen und Neues entdecken – das erwartet dich bei unseren Juffis vom Stamm Isenburg! In unseren Gruppenstunden machen wir viele Geländespiele\, starten erste eigene Projekte\, stärken unseren Teamgeist und unsere Selbstständigkeit und lernen weitere Pfadfinder Eigenschaften. Wenn du Lust hast\, Gemeinschaft und Abenteuer zu erleben\, komm einfach vorbei! \nUnsere Juffis treffen sich jeden Mittwoch von 18:00-19:30 Uhr in der Kresse zweipunktnull zur Gruppenstunde. \nIn den regulären Ferienzeiten finden keine Gruppenstunden statt.
URL:https://kressezweipunktnull.de/events/pfadfinder-stamm-isenburg-gruppenstunde-juffis/2028-04-19/
LOCATION:Kresse zweipunktnull – Die blaue Bar & der Nebenraum\, Kressenberg 2\, Hattingen\, 45529\, Germany
CATEGORIES:Begegnung & Gemeinschaft,Natur & Umwelt
ATTACH;FMTTYPE=image/png:https://kressezweipunktnull.de/wp-content/uploads/2026/03/Pfadis16_9.png
END:VEVENT
BEGIN:VEVENT
DTSTART;TZID=Europe/Berlin:20280421T173000
DTEND;TZID=Europe/Berlin:20280421T190000
DTSTAMP:20260421T011045
CREATED:20260406T112519Z
LAST-MODIFIED:20260408T195217Z
UID:10000719-1839951000-1839956400@kressezweipunktnull.de
SUMMARY:Pfadfinder – Gruppenstunde Wölflinge
DESCRIPTION:Pfadfinder Stamm Isenburg – Gruppenstunde Wölflinge – Kinder von 7-10 Jahren \nAbenteuer erleben\, draußen spielen\, gemeinsam lachen und Neues entdecken – das erwartet dich bei unseren Wölflingen vom Stamm Isenburg! In unseren Gruppenstunden machen wir spannende (Gelände-)spiele\, sind wenn es geht in der Natur unterwegs\, basteln\, stärken unseren Teamgeist und lernen wichtige Pfadfinder Eigenschaften. Wenn du Lust hast\, neue Freunde kennenzulernen\, Gemeinschaft und Abenteuer zu erleben\, komm einfach vorbei! \nUnsere Wölflinge treffen sich jeden Freitag von 17:30-19 Uhr in der Kresse zweipunktnull zur Gruppenstunde. \nIn den regulären Ferienzeiten finden keine Gruppenstunden statt.
URL:https://kressezweipunktnull.de/events/pfadfinder-stamm-isenburg-gruppenstunde-woelflinge/2028-04-21/
LOCATION:Kresse zweipunktnull – Die blaue Bar & der Nebenraum\, Kressenberg 2\, Hattingen\, 45529\, Germany
CATEGORIES:Begegnung & Gemeinschaft,Natur & Umwelt
ATTACH;FMTTYPE=image/png:https://kressezweipunktnull.de/wp-content/uploads/2026/03/Pfadis16_9.png
END:VEVENT
BEGIN:VEVENT
DTSTART;TZID=Europe/Berlin:20280424T183000
DTEND;TZID=Europe/Berlin:20280424T200000
DTSTAMP:20260421T011045
CREATED:20260406T114312Z
LAST-MODIFIED:20260408T195018Z
UID:10000968-1840213800-1840219200@kressezweipunktnull.de
SUMMARY:Pfadfinder – Gruppenstunde Pfadfinder (Pfadis)
DESCRIPTION:Pfadfinder Stamm Isenburg – Gruppenstunde Pfadfinder (Pfadis) – Jugendliche von 12-16 Jahren \nAbenteuer erleben\, gemeinsam lachen und Neues entdecken – das erwartet dich bei unseren Pfadis vom Stamm Isenburg! In unseren Gruppenstunden machen wir sowohl Geländespiele als auch eure eigenen Projekte\, bauen Schwedenstühle\, stärken unseren Teamgeist und wagen Neues. Wenn du Lust hast\, andere Jugendliche kennenzulernen\, Gemeinschaft und Abenteuer zu erleben\, komm einfach vorbei! \nUnsere Pfadis treffen sich jeden Montag von 18:30-20 Uhr in der Kresse zweipunktnull zur Gruppenstunde. \nIn den regulären Ferienzeiten finden keine Gruppenstunden statt.
URL:https://kressezweipunktnull.de/events/pfadfinder-stamm-isenburg-gruppenstunde-pfadfinder-pfadis-12-16-jahre/2028-04-24/
LOCATION:Kresse zweipunktnull – Die blaue Bar & der Nebenraum\, Kressenberg 2\, Hattingen\, 45529\, Germany
CATEGORIES:Begegnung & Gemeinschaft,Natur & Umwelt
ATTACH;FMTTYPE=image/png:https://kressezweipunktnull.de/wp-content/uploads/2026/03/Pfadis16_9.png
END:VEVENT
BEGIN:VEVENT
DTSTART;TZID=Europe/Berlin:20280426T180000
DTEND;TZID=Europe/Berlin:20280426T193000
DTSTAMP:20260421T011045
CREATED:20260406T110235Z
LAST-MODIFIED:20260408T194919Z
UID:10001217-1840384800-1840390200@kressezweipunktnull.de
SUMMARY:Pfadfinder – Gruppenstunde Juffis
DESCRIPTION:Pfadfinder Stamm Isenburg – Gruppenstunde Juffis (Jungpfadfinder) \nKinder von 9-13 Jahren \nAbenteuer erleben\, draußen spielen\, gemeinsam lachen und Neues entdecken – das erwartet dich bei unseren Juffis vom Stamm Isenburg! In unseren Gruppenstunden machen wir viele Geländespiele\, starten erste eigene Projekte\, stärken unseren Teamgeist und unsere Selbstständigkeit und lernen weitere Pfadfinder Eigenschaften. Wenn du Lust hast\, Gemeinschaft und Abenteuer zu erleben\, komm einfach vorbei! \nUnsere Juffis treffen sich jeden Mittwoch von 18:00-19:30 Uhr in der Kresse zweipunktnull zur Gruppenstunde. \nIn den regulären Ferienzeiten finden keine Gruppenstunden statt.
URL:https://kressezweipunktnull.de/events/pfadfinder-stamm-isenburg-gruppenstunde-juffis/2028-04-26/
LOCATION:Kresse zweipunktnull – Die blaue Bar & der Nebenraum\, Kressenberg 2\, Hattingen\, 45529\, Germany
CATEGORIES:Begegnung & Gemeinschaft,Natur & Umwelt
ATTACH;FMTTYPE=image/png:https://kressezweipunktnull.de/wp-content/uploads/2026/03/Pfadis16_9.png
END:VEVENT
BEGIN:VEVENT
DTSTART;TZID=Europe/Berlin:20280428T173000
DTEND;TZID=Europe/Berlin:20280428T190000
DTSTAMP:20260421T011045
CREATED:20260406T112519Z
LAST-MODIFIED:20260408T195217Z
UID:10000720-1840555800-1840561200@kressezweipunktnull.de
SUMMARY:Pfadfinder – Gruppenstunde Wölflinge
DESCRIPTION:Pfadfinder Stamm Isenburg – Gruppenstunde Wölflinge – Kinder von 7-10 Jahren \nAbenteuer erleben\, draußen spielen\, gemeinsam lachen und Neues entdecken – das erwartet dich bei unseren Wölflingen vom Stamm Isenburg! In unseren Gruppenstunden machen wir spannende (Gelände-)spiele\, sind wenn es geht in der Natur unterwegs\, basteln\, stärken unseren Teamgeist und lernen wichtige Pfadfinder Eigenschaften. Wenn du Lust hast\, neue Freunde kennenzulernen\, Gemeinschaft und Abenteuer zu erleben\, komm einfach vorbei! \nUnsere Wölflinge treffen sich jeden Freitag von 17:30-19 Uhr in der Kresse zweipunktnull zur Gruppenstunde. \nIn den regulären Ferienzeiten finden keine Gruppenstunden statt.
URL:https://kressezweipunktnull.de/events/pfadfinder-stamm-isenburg-gruppenstunde-woelflinge/2028-04-28/
LOCATION:Kresse zweipunktnull – Die blaue Bar & der Nebenraum\, Kressenberg 2\, Hattingen\, 45529\, Germany
CATEGORIES:Begegnung & Gemeinschaft,Natur & Umwelt
ATTACH;FMTTYPE=image/png:https://kressezweipunktnull.de/wp-content/uploads/2026/03/Pfadis16_9.png
END:VEVENT
END:VCALENDAR