BEGIN:VCALENDAR
VERSION:2.0
PRODID:-//Kresse zweipunktnull - ECPv6.15.20//NONSGML v1.0//EN
CALSCALE:GREGORIAN
METHOD:PUBLISH
X-ORIGINAL-URL:https://kressezweipunktnull.de
X-WR-CALDESC:Veranstaltungen für Kresse zweipunktnull
REFRESH-INTERVAL;VALUE=DURATION:PT1H
X-Robots-Tag:noindex
X-PUBLISHED-TTL:PT1H
BEGIN:VTIMEZONE
TZID:Europe/Berlin
BEGIN:DAYLIGHT
TZOFFSETFROM:+0100
TZOFFSETTO:+0200
TZNAME:CEST
DTSTART:20260329T010000
END:DAYLIGHT
BEGIN:STANDARD
TZOFFSETFROM:+0200
TZOFFSETTO:+0100
TZNAME:CET
DTSTART:20261025T010000
END:STANDARD
BEGIN:DAYLIGHT
TZOFFSETFROM:+0100
TZOFFSETTO:+0200
TZNAME:CEST
DTSTART:20270328T010000
END:DAYLIGHT
BEGIN:STANDARD
TZOFFSETFROM:+0200
TZOFFSETTO:+0100
TZNAME:CET
DTSTART:20271031T010000
END:STANDARD
BEGIN:DAYLIGHT
TZOFFSETFROM:+0100
TZOFFSETTO:+0200
TZNAME:CEST
DTSTART:20280326T010000
END:DAYLIGHT
BEGIN:STANDARD
TZOFFSETFROM:+0200
TZOFFSETTO:+0100
TZNAME:CET
DTSTART:20281029T010000
END:STANDARD
END:VTIMEZONE
BEGIN:VEVENT
DTSTART;TZID=Europe/Berlin:20270201T183000
DTEND;TZID=Europe/Berlin:20270201T200000
DTSTAMP:20260420T021558
CREATED:20260406T114312Z
LAST-MODIFIED:20260408T195018Z
UID:10000904-1801506600-1801512000@kressezweipunktnull.de
SUMMARY:Pfadfinder – Gruppenstunde Pfadfinder (Pfadis)
DESCRIPTION:Pfadfinder Stamm Isenburg – Gruppenstunde Pfadfinder (Pfadis) – Jugendliche von 12-16 Jahren \nAbenteuer erleben\, gemeinsam lachen und Neues entdecken – das erwartet dich bei unseren Pfadis vom Stamm Isenburg! In unseren Gruppenstunden machen wir sowohl Geländespiele als auch eure eigenen Projekte\, bauen Schwedenstühle\, stärken unseren Teamgeist und wagen Neues. Wenn du Lust hast\, andere Jugendliche kennenzulernen\, Gemeinschaft und Abenteuer zu erleben\, komm einfach vorbei! \nUnsere Pfadis treffen sich jeden Montag von 18:30-20 Uhr in der Kresse zweipunktnull zur Gruppenstunde. \nIn den regulären Ferienzeiten finden keine Gruppenstunden statt.
URL:https://kressezweipunktnull.de/events/pfadfinder-stamm-isenburg-gruppenstunde-pfadfinder-pfadis-12-16-jahre/2027-02-01/
LOCATION:Kresse zweipunktnull – Die blaue Bar & der Nebenraum\, Kressenberg 2\, Hattingen\, 45529\, Germany
CATEGORIES:Begegnung & Gemeinschaft,Natur & Umwelt
ATTACH;FMTTYPE=image/png:https://kressezweipunktnull.de/wp-content/uploads/2026/03/Pfadis16_9.png
END:VEVENT
BEGIN:VEVENT
DTSTART;TZID=Europe/Berlin:20270203T180000
DTEND;TZID=Europe/Berlin:20270203T193000
DTSTAMP:20260420T021558
CREATED:20260406T110235Z
LAST-MODIFIED:20260408T194919Z
UID:10001153-1801677600-1801683000@kressezweipunktnull.de
SUMMARY:Pfadfinder – Gruppenstunde Juffis
DESCRIPTION:Pfadfinder Stamm Isenburg – Gruppenstunde Juffis (Jungpfadfinder) \nKinder von 9-13 Jahren \nAbenteuer erleben\, draußen spielen\, gemeinsam lachen und Neues entdecken – das erwartet dich bei unseren Juffis vom Stamm Isenburg! In unseren Gruppenstunden machen wir viele Geländespiele\, starten erste eigene Projekte\, stärken unseren Teamgeist und unsere Selbstständigkeit und lernen weitere Pfadfinder Eigenschaften. Wenn du Lust hast\, Gemeinschaft und Abenteuer zu erleben\, komm einfach vorbei! \nUnsere Juffis treffen sich jeden Mittwoch von 18:00-19:30 Uhr in der Kresse zweipunktnull zur Gruppenstunde. \nIn den regulären Ferienzeiten finden keine Gruppenstunden statt.
URL:https://kressezweipunktnull.de/events/pfadfinder-stamm-isenburg-gruppenstunde-juffis/2027-02-03/
LOCATION:Kresse zweipunktnull – Die blaue Bar & der Nebenraum\, Kressenberg 2\, Hattingen\, 45529\, Germany
CATEGORIES:Begegnung & Gemeinschaft,Natur & Umwelt
ATTACH;FMTTYPE=image/png:https://kressezweipunktnull.de/wp-content/uploads/2026/03/Pfadis16_9.png
END:VEVENT
BEGIN:VEVENT
DTSTART;TZID=Europe/Berlin:20270208T183000
DTEND;TZID=Europe/Berlin:20270208T200000
DTSTAMP:20260420T021558
CREATED:20260406T114312Z
LAST-MODIFIED:20260408T195018Z
UID:10000905-1802111400-1802116800@kressezweipunktnull.de
SUMMARY:Pfadfinder – Gruppenstunde Pfadfinder (Pfadis)
DESCRIPTION:Pfadfinder Stamm Isenburg – Gruppenstunde Pfadfinder (Pfadis) – Jugendliche von 12-16 Jahren \nAbenteuer erleben\, gemeinsam lachen und Neues entdecken – das erwartet dich bei unseren Pfadis vom Stamm Isenburg! In unseren Gruppenstunden machen wir sowohl Geländespiele als auch eure eigenen Projekte\, bauen Schwedenstühle\, stärken unseren Teamgeist und wagen Neues. Wenn du Lust hast\, andere Jugendliche kennenzulernen\, Gemeinschaft und Abenteuer zu erleben\, komm einfach vorbei! \nUnsere Pfadis treffen sich jeden Montag von 18:30-20 Uhr in der Kresse zweipunktnull zur Gruppenstunde. \nIn den regulären Ferienzeiten finden keine Gruppenstunden statt.
URL:https://kressezweipunktnull.de/events/pfadfinder-stamm-isenburg-gruppenstunde-pfadfinder-pfadis-12-16-jahre/2027-02-08/
LOCATION:Kresse zweipunktnull – Die blaue Bar & der Nebenraum\, Kressenberg 2\, Hattingen\, 45529\, Germany
CATEGORIES:Begegnung & Gemeinschaft,Natur & Umwelt
ATTACH;FMTTYPE=image/png:https://kressezweipunktnull.de/wp-content/uploads/2026/03/Pfadis16_9.png
END:VEVENT
BEGIN:VEVENT
DTSTART;TZID=Europe/Berlin:20270210T180000
DTEND;TZID=Europe/Berlin:20270210T193000
DTSTAMP:20260420T021558
CREATED:20260406T110235Z
LAST-MODIFIED:20260408T194919Z
UID:10001154-1802282400-1802287800@kressezweipunktnull.de
SUMMARY:Pfadfinder – Gruppenstunde Juffis
DESCRIPTION:Pfadfinder Stamm Isenburg – Gruppenstunde Juffis (Jungpfadfinder) \nKinder von 9-13 Jahren \nAbenteuer erleben\, draußen spielen\, gemeinsam lachen und Neues entdecken – das erwartet dich bei unseren Juffis vom Stamm Isenburg! In unseren Gruppenstunden machen wir viele Geländespiele\, starten erste eigene Projekte\, stärken unseren Teamgeist und unsere Selbstständigkeit und lernen weitere Pfadfinder Eigenschaften. Wenn du Lust hast\, Gemeinschaft und Abenteuer zu erleben\, komm einfach vorbei! \nUnsere Juffis treffen sich jeden Mittwoch von 18:00-19:30 Uhr in der Kresse zweipunktnull zur Gruppenstunde. \nIn den regulären Ferienzeiten finden keine Gruppenstunden statt.
URL:https://kressezweipunktnull.de/events/pfadfinder-stamm-isenburg-gruppenstunde-juffis/2027-02-10/
LOCATION:Kresse zweipunktnull – Die blaue Bar & der Nebenraum\, Kressenberg 2\, Hattingen\, 45529\, Germany
CATEGORIES:Begegnung & Gemeinschaft,Natur & Umwelt
ATTACH;FMTTYPE=image/png:https://kressezweipunktnull.de/wp-content/uploads/2026/03/Pfadis16_9.png
END:VEVENT
BEGIN:VEVENT
DTSTART;TZID=Europe/Berlin:20270215T183000
DTEND;TZID=Europe/Berlin:20270215T200000
DTSTAMP:20260420T021558
CREATED:20260406T114312Z
LAST-MODIFIED:20260408T195018Z
UID:10000906-1802716200-1802721600@kressezweipunktnull.de
SUMMARY:Pfadfinder – Gruppenstunde Pfadfinder (Pfadis)
DESCRIPTION:Pfadfinder Stamm Isenburg – Gruppenstunde Pfadfinder (Pfadis) – Jugendliche von 12-16 Jahren \nAbenteuer erleben\, gemeinsam lachen und Neues entdecken – das erwartet dich bei unseren Pfadis vom Stamm Isenburg! In unseren Gruppenstunden machen wir sowohl Geländespiele als auch eure eigenen Projekte\, bauen Schwedenstühle\, stärken unseren Teamgeist und wagen Neues. Wenn du Lust hast\, andere Jugendliche kennenzulernen\, Gemeinschaft und Abenteuer zu erleben\, komm einfach vorbei! \nUnsere Pfadis treffen sich jeden Montag von 18:30-20 Uhr in der Kresse zweipunktnull zur Gruppenstunde. \nIn den regulären Ferienzeiten finden keine Gruppenstunden statt.
URL:https://kressezweipunktnull.de/events/pfadfinder-stamm-isenburg-gruppenstunde-pfadfinder-pfadis-12-16-jahre/2027-02-15/
LOCATION:Kresse zweipunktnull – Die blaue Bar & der Nebenraum\, Kressenberg 2\, Hattingen\, 45529\, Germany
CATEGORIES:Begegnung & Gemeinschaft,Natur & Umwelt
ATTACH;FMTTYPE=image/png:https://kressezweipunktnull.de/wp-content/uploads/2026/03/Pfadis16_9.png
END:VEVENT
BEGIN:VEVENT
DTSTART;TZID=Europe/Berlin:20270217T180000
DTEND;TZID=Europe/Berlin:20270217T193000
DTSTAMP:20260420T021558
CREATED:20260406T110235Z
LAST-MODIFIED:20260408T194919Z
UID:10001155-1802887200-1802892600@kressezweipunktnull.de
SUMMARY:Pfadfinder – Gruppenstunde Juffis
DESCRIPTION:Pfadfinder Stamm Isenburg – Gruppenstunde Juffis (Jungpfadfinder) \nKinder von 9-13 Jahren \nAbenteuer erleben\, draußen spielen\, gemeinsam lachen und Neues entdecken – das erwartet dich bei unseren Juffis vom Stamm Isenburg! In unseren Gruppenstunden machen wir viele Geländespiele\, starten erste eigene Projekte\, stärken unseren Teamgeist und unsere Selbstständigkeit und lernen weitere Pfadfinder Eigenschaften. Wenn du Lust hast\, Gemeinschaft und Abenteuer zu erleben\, komm einfach vorbei! \nUnsere Juffis treffen sich jeden Mittwoch von 18:00-19:30 Uhr in der Kresse zweipunktnull zur Gruppenstunde. \nIn den regulären Ferienzeiten finden keine Gruppenstunden statt.
URL:https://kressezweipunktnull.de/events/pfadfinder-stamm-isenburg-gruppenstunde-juffis/2027-02-17/
LOCATION:Kresse zweipunktnull – Die blaue Bar & der Nebenraum\, Kressenberg 2\, Hattingen\, 45529\, Germany
CATEGORIES:Begegnung & Gemeinschaft,Natur & Umwelt
ATTACH;FMTTYPE=image/png:https://kressezweipunktnull.de/wp-content/uploads/2026/03/Pfadis16_9.png
END:VEVENT
BEGIN:VEVENT
DTSTART;TZID=Europe/Berlin:20270222T183000
DTEND;TZID=Europe/Berlin:20270222T200000
DTSTAMP:20260420T021558
CREATED:20260406T114312Z
LAST-MODIFIED:20260408T195018Z
UID:10000907-1803321000-1803326400@kressezweipunktnull.de
SUMMARY:Pfadfinder – Gruppenstunde Pfadfinder (Pfadis)
DESCRIPTION:Pfadfinder Stamm Isenburg – Gruppenstunde Pfadfinder (Pfadis) – Jugendliche von 12-16 Jahren \nAbenteuer erleben\, gemeinsam lachen und Neues entdecken – das erwartet dich bei unseren Pfadis vom Stamm Isenburg! In unseren Gruppenstunden machen wir sowohl Geländespiele als auch eure eigenen Projekte\, bauen Schwedenstühle\, stärken unseren Teamgeist und wagen Neues. Wenn du Lust hast\, andere Jugendliche kennenzulernen\, Gemeinschaft und Abenteuer zu erleben\, komm einfach vorbei! \nUnsere Pfadis treffen sich jeden Montag von 18:30-20 Uhr in der Kresse zweipunktnull zur Gruppenstunde. \nIn den regulären Ferienzeiten finden keine Gruppenstunden statt.
URL:https://kressezweipunktnull.de/events/pfadfinder-stamm-isenburg-gruppenstunde-pfadfinder-pfadis-12-16-jahre/2027-02-22/
LOCATION:Kresse zweipunktnull – Die blaue Bar & der Nebenraum\, Kressenberg 2\, Hattingen\, 45529\, Germany
CATEGORIES:Begegnung & Gemeinschaft,Natur & Umwelt
ATTACH;FMTTYPE=image/png:https://kressezweipunktnull.de/wp-content/uploads/2026/03/Pfadis16_9.png
END:VEVENT
BEGIN:VEVENT
DTSTART;TZID=Europe/Berlin:20270224T180000
DTEND;TZID=Europe/Berlin:20270224T193000
DTSTAMP:20260420T021558
CREATED:20260406T110235Z
LAST-MODIFIED:20260408T194919Z
UID:10001156-1803492000-1803497400@kressezweipunktnull.de
SUMMARY:Pfadfinder – Gruppenstunde Juffis
DESCRIPTION:Pfadfinder Stamm Isenburg – Gruppenstunde Juffis (Jungpfadfinder) \nKinder von 9-13 Jahren \nAbenteuer erleben\, draußen spielen\, gemeinsam lachen und Neues entdecken – das erwartet dich bei unseren Juffis vom Stamm Isenburg! In unseren Gruppenstunden machen wir viele Geländespiele\, starten erste eigene Projekte\, stärken unseren Teamgeist und unsere Selbstständigkeit und lernen weitere Pfadfinder Eigenschaften. Wenn du Lust hast\, Gemeinschaft und Abenteuer zu erleben\, komm einfach vorbei! \nUnsere Juffis treffen sich jeden Mittwoch von 18:00-19:30 Uhr in der Kresse zweipunktnull zur Gruppenstunde. \nIn den regulären Ferienzeiten finden keine Gruppenstunden statt.
URL:https://kressezweipunktnull.de/events/pfadfinder-stamm-isenburg-gruppenstunde-juffis/2027-02-24/
LOCATION:Kresse zweipunktnull – Die blaue Bar & der Nebenraum\, Kressenberg 2\, Hattingen\, 45529\, Germany
CATEGORIES:Begegnung & Gemeinschaft,Natur & Umwelt
ATTACH;FMTTYPE=image/png:https://kressezweipunktnull.de/wp-content/uploads/2026/03/Pfadis16_9.png
END:VEVENT
END:VCALENDAR