BEGIN:VCALENDAR
VERSION:2.0
PRODID:-//Kresse zweipunktnull - ECPv6.15.20//NONSGML v1.0//EN
CALSCALE:GREGORIAN
METHOD:PUBLISH
X-WR-CALNAME:Kresse zweipunktnull
X-ORIGINAL-URL:https://kressezweipunktnull.de
X-WR-CALDESC:Veranstaltungen für Kresse zweipunktnull
REFRESH-INTERVAL;VALUE=DURATION:PT1H
X-Robots-Tag:noindex
X-PUBLISHED-TTL:PT1H
BEGIN:VTIMEZONE
TZID:Europe/Berlin
BEGIN:DAYLIGHT
TZOFFSETFROM:+0100
TZOFFSETTO:+0200
TZNAME:CEST
DTSTART:20250330T010000
END:DAYLIGHT
BEGIN:STANDARD
TZOFFSETFROM:+0200
TZOFFSETTO:+0100
TZNAME:CET
DTSTART:20251026T010000
END:STANDARD
BEGIN:DAYLIGHT
TZOFFSETFROM:+0100
TZOFFSETTO:+0200
TZNAME:CEST
DTSTART:20260329T010000
END:DAYLIGHT
BEGIN:STANDARD
TZOFFSETFROM:+0200
TZOFFSETTO:+0100
TZNAME:CET
DTSTART:20261025T010000
END:STANDARD
BEGIN:DAYLIGHT
TZOFFSETFROM:+0100
TZOFFSETTO:+0200
TZNAME:CEST
DTSTART:20270328T010000
END:DAYLIGHT
BEGIN:STANDARD
TZOFFSETFROM:+0200
TZOFFSETTO:+0100
TZNAME:CET
DTSTART:20271031T010000
END:STANDARD
END:VTIMEZONE
BEGIN:VEVENT
DTSTART;TZID=Europe/Berlin:20260612T193000
DTEND;TZID=Europe/Berlin:20260612T213000
DTSTAMP:20260419T212515
CREATED:20251204T095918Z
LAST-MODIFIED:20260408T194736Z
UID:10000002-1781292600-1781299800@kressezweipunktnull.de
SUMMARY:"Kunst in der Walachei" - Lesung & Kabarett mit Hellmut Lemmer & Martin Funda
DESCRIPTION:Gottvertrauen und Katzenbuckel \nMan/frau soll nicht mitten im Kulturprogramm die Pferde wechseln – schon allein\, weil das Wiehern stört. \nAlso tritt wieder das bewährte Duo Lemmer/Funda an\, die Kultur in die Walachei zu tragen. \nDer Hattinger Autor Hellmut Lemmer (in der Tat mit drei „l“) liest aus seinem zweiten Buch Katzenbuckel. \nDer Kabarettist und Pfarrer Martin Funda bringt das nötige Gottvertrauen mit und begleitet die Lesung mit seiner spitzen Zunge und vielleicht auch mit dem einen oder anderen Instrument. \nFrau/man darf gespannt sein. \nKartenverkauf startet demnächst. \n  \n  \n  \n  \n 
URL:https://kressezweipunktnull.de/events/kabarett-abend/
LOCATION:Kresse zweipunktnull – Studio zweipunktnull\, Kressenberg 2\, Hattingen\, 45529\, Germany
CATEGORIES:Kultur & Kreativität
ATTACH;FMTTYPE=image/png:https://kressezweipunktnull.de/wp-content/uploads/2025/12/FundaLemmerKatzenbuckel.png
ORGANIZER;CN="Kresse zweipunktnull":MAILTO:events@kressezweipunknull.de
END:VEVENT
END:VCALENDAR