BEGIN:VCALENDAR
VERSION:2.0
PRODID:-//Kresse zweipunktnull - ECPv6.15.20//NONSGML v1.0//EN
CALSCALE:GREGORIAN
METHOD:PUBLISH
X-ORIGINAL-URL:https://kressezweipunktnull.de
X-WR-CALDESC:Veranstaltungen für Kresse zweipunktnull
REFRESH-INTERVAL;VALUE=DURATION:PT1H
X-Robots-Tag:noindex
X-PUBLISHED-TTL:PT1H
BEGIN:VTIMEZONE
TZID:Europe/Berlin
BEGIN:DAYLIGHT
TZOFFSETFROM:+0100
TZOFFSETTO:+0200
TZNAME:CEST
DTSTART:20290325T010000
END:DAYLIGHT
BEGIN:STANDARD
TZOFFSETFROM:+0200
TZOFFSETTO:+0100
TZNAME:CET
DTSTART:20291028T010000
END:STANDARD
BEGIN:DAYLIGHT
TZOFFSETFROM:+0100
TZOFFSETTO:+0200
TZNAME:CEST
DTSTART:20300331T010000
END:DAYLIGHT
BEGIN:STANDARD
TZOFFSETFROM:+0200
TZOFFSETTO:+0100
TZNAME:CET
DTSTART:20301027T010000
END:STANDARD
BEGIN:DAYLIGHT
TZOFFSETFROM:+0100
TZOFFSETTO:+0200
TZNAME:CEST
DTSTART:20310330T010000
END:DAYLIGHT
BEGIN:STANDARD
TZOFFSETFROM:+0200
TZOFFSETTO:+0100
TZNAME:CET
DTSTART:20311026T010000
END:STANDARD
END:VTIMEZONE
BEGIN:VEVENT
DTSTART;TZID=Europe/Berlin:20300802T083000
DTEND;TZID=Europe/Berlin:20300802T090000
DTSTAMP:20260422T194224
CREATED:20260408T193933Z
LAST-MODIFIED:20260408T204544Z
UID:10001848-1911889800-1911891600@kressezweipunktnull.de
SUMMARY:Yoga Workout
DESCRIPTION:30 Minuten\, die es in sich haben. \nDer effiziente Power-Start in deinen Freitagmorgen. In diesem knackigen 30-Minuten-Format fokussieren wir uns auf kraftvolle Flows\, Halteübungen und funktionelle Bewegungen. Wir verschwenden keine Zeit: Wir stärken gezielt deine Körpermitte\, fordern die Muskulatur und heben dein Energielevel für das anstehende Wochenende. Ein intensives Training für spürbare Stabilität und inneren Fokus. \nFür wen: Alle\, die sich in einer halben Stunde richtig fordern wollen (ab sofort buchbar).\nWann: Freitags\, 08:30 – 09:00 Uhr\nKosten: 90 € (10er Karte\, 12 Wochen gültig) \n 
URL:https://kressezweipunktnull.de/events/yoga-workout/2030-08-02/
LOCATION:Kresse zweipunktnull – Studio zweipunktnull\, Kressenberg 2\, Hattingen\, 45529\, Germany
CATEGORIES:Bewegung & Gesundheit
ATTACH;FMTTYPE=image/png:https://kressezweipunktnull.de/wp-content/uploads/2026/04/Yoga-von-Morgen-Website-gelb.png
ORGANIZER;CN="Yoga von Morgen":MAILTO:info@yogavonmorgen.de
END:VEVENT
BEGIN:VEVENT
DTSTART;TZID=Europe/Berlin:20300802T091000
DTEND;TZID=Europe/Berlin:20300802T101000
DTSTAMP:20260422T194224
CREATED:20260408T195530Z
LAST-MODIFIED:20260408T204516Z
UID:10002104-1911892200-1911895800@kressezweipunktnull.de
SUMMARY:Sanftes Mindful Movement
DESCRIPTION:Stärke finden aus der Ruhe. \nEin achtsames Bewegungskonzept für alle\, die Kraft ohne Leistungsdruck suchen. In diesem Kurs vereint Elena von Yoga von Morgen Elemente aus Yoga\, Pilates und somatischer Praxis. Du arbeitest gezielt an deiner Tiefenmuskulatur und einer gesunden Ausrichtung\, während fließende Sequenzen dir helfen\, die Signale deines Körpers wieder bewusst wahrzunehmen. Ein Raum für Regeneration\, der dich aufgerichtet und klar ins Wochenende entlässt. \nFür wen: Ideal für Einsteiger\, Wiedereinsteiger und alle\, die eine bewusste Auszeit suchen.\nWann: Freitags\, 09:10-10:10 Uhr
URL:https://kressezweipunktnull.de/events/sanftes-mindful-movement/2030-08-02/
LOCATION:Kresse zweipunktnull – Studio zweipunktnull\, Kressenberg 2\, Hattingen\, 45529\, Germany
CATEGORIES:Bewegung & Gesundheit
ATTACH;FMTTYPE=image/png:https://kressezweipunktnull.de/wp-content/uploads/2026/04/Yoga-von-Morgen-Website-gelb.png
ORGANIZER;CN="Yoga von Morgen":MAILTO:info@yogavonmorgen.de
END:VEVENT
BEGIN:VEVENT
DTSTART;TZID=Europe/Berlin:20300802T173000
DTEND;TZID=Europe/Berlin:20300802T190000
DTSTAMP:20260422T194224
CREATED:20260406T112519Z
LAST-MODIFIED:20260408T195217Z
UID:10000838-1911922200-1911927600@kressezweipunktnull.de
SUMMARY:Pfadfinder – Gruppenstunde Wölflinge
DESCRIPTION:Pfadfinder Stamm Isenburg – Gruppenstunde Wölflinge – Kinder von 7-10 Jahren \nAbenteuer erleben\, draußen spielen\, gemeinsam lachen und Neues entdecken – das erwartet dich bei unseren Wölflingen vom Stamm Isenburg! In unseren Gruppenstunden machen wir spannende (Gelände-)spiele\, sind wenn es geht in der Natur unterwegs\, basteln\, stärken unseren Teamgeist und lernen wichtige Pfadfinder Eigenschaften. Wenn du Lust hast\, neue Freunde kennenzulernen\, Gemeinschaft und Abenteuer zu erleben\, komm einfach vorbei! \nUnsere Wölflinge treffen sich jeden Freitag von 17:30-19 Uhr in der Kresse zweipunktnull zur Gruppenstunde. \nIn den regulären Ferienzeiten finden keine Gruppenstunden statt.
URL:https://kressezweipunktnull.de/events/pfadfinder-stamm-isenburg-gruppenstunde-woelflinge/2030-08-02/
LOCATION:Kresse zweipunktnull – Die blaue Bar & der Nebenraum\, Kressenberg 2\, Hattingen\, 45529\, Germany
CATEGORIES:Begegnung & Gemeinschaft,Natur & Umwelt
ATTACH;FMTTYPE=image/png:https://kressezweipunktnull.de/wp-content/uploads/2026/03/Pfadis16_9.png
END:VEVENT
BEGIN:VEVENT
DTSTART;TZID=Europe/Berlin:20300805T183000
DTEND;TZID=Europe/Berlin:20300805T194500
DTSTAMP:20260422T194224
CREATED:20260408T064630Z
LAST-MODIFIED:20260408T204613Z
UID:10001592-1912185000-1912189500@kressezweipunktnull.de
SUMMARY:Power & Release
DESCRIPTION:Power & Release\nDer kraftvolle Reset für deine Woche. \nSchüttle den Montags-Ballast ab und finde zurück in deine Kraft. Dieser Kurs kombiniert dynamische\, fordernde Bewegung mit tiefer Entspannung. Unter der Leitung von Yoga- und Ayurveda-Expertin Tatsiana nutzt du den ersten Teil der Stunde\, um Stressenergie aktiv „rauszupowern“ und den Kopf freizubekommen. Im anschließenden „Release“ darfst du komplett loslassen\, damit dein Nervensystem regeneriert und du entspannt in die Nacht startest. \nFür wen: Alle\, die Bewegung brauchen\, um im Kopf ruhig zu werden (keine Vorkenntnisse nötig).\nWann: Montags\, 18:30-19:45 Uhr
URL:https://kressezweipunktnull.de/events/power-release/2030-08-05/
LOCATION:Kresse zweipunktnull – Studio zweipunktnull\, Kressenberg 2\, Hattingen\, 45529\, Germany
CATEGORIES:Bewegung & Gesundheit
ATTACH;FMTTYPE=image/png:https://kressezweipunktnull.de/wp-content/uploads/2026/04/Yoga-von-Morgen-Website.png
ORGANIZER;CN="Yoga von Morgen":MAILTO:info@yogavonmorgen.de
END:VEVENT
BEGIN:VEVENT
DTSTART;TZID=Europe/Berlin:20300809T083000
DTEND;TZID=Europe/Berlin:20300809T090000
DTSTAMP:20260422T194224
CREATED:20260408T193933Z
LAST-MODIFIED:20260408T204544Z
UID:10001849-1912494600-1912496400@kressezweipunktnull.de
SUMMARY:Yoga Workout
DESCRIPTION:30 Minuten\, die es in sich haben. \nDer effiziente Power-Start in deinen Freitagmorgen. In diesem knackigen 30-Minuten-Format fokussieren wir uns auf kraftvolle Flows\, Halteübungen und funktionelle Bewegungen. Wir verschwenden keine Zeit: Wir stärken gezielt deine Körpermitte\, fordern die Muskulatur und heben dein Energielevel für das anstehende Wochenende. Ein intensives Training für spürbare Stabilität und inneren Fokus. \nFür wen: Alle\, die sich in einer halben Stunde richtig fordern wollen (ab sofort buchbar).\nWann: Freitags\, 08:30 – 09:00 Uhr\nKosten: 90 € (10er Karte\, 12 Wochen gültig) \n 
URL:https://kressezweipunktnull.de/events/yoga-workout/2030-08-09/
LOCATION:Kresse zweipunktnull – Studio zweipunktnull\, Kressenberg 2\, Hattingen\, 45529\, Germany
CATEGORIES:Bewegung & Gesundheit
ATTACH;FMTTYPE=image/png:https://kressezweipunktnull.de/wp-content/uploads/2026/04/Yoga-von-Morgen-Website-gelb.png
ORGANIZER;CN="Yoga von Morgen":MAILTO:info@yogavonmorgen.de
END:VEVENT
BEGIN:VEVENT
DTSTART;TZID=Europe/Berlin:20300809T091000
DTEND;TZID=Europe/Berlin:20300809T101000
DTSTAMP:20260422T194224
CREATED:20260408T195530Z
LAST-MODIFIED:20260408T204516Z
UID:10002105-1912497000-1912500600@kressezweipunktnull.de
SUMMARY:Sanftes Mindful Movement
DESCRIPTION:Stärke finden aus der Ruhe. \nEin achtsames Bewegungskonzept für alle\, die Kraft ohne Leistungsdruck suchen. In diesem Kurs vereint Elena von Yoga von Morgen Elemente aus Yoga\, Pilates und somatischer Praxis. Du arbeitest gezielt an deiner Tiefenmuskulatur und einer gesunden Ausrichtung\, während fließende Sequenzen dir helfen\, die Signale deines Körpers wieder bewusst wahrzunehmen. Ein Raum für Regeneration\, der dich aufgerichtet und klar ins Wochenende entlässt. \nFür wen: Ideal für Einsteiger\, Wiedereinsteiger und alle\, die eine bewusste Auszeit suchen.\nWann: Freitags\, 09:10-10:10 Uhr
URL:https://kressezweipunktnull.de/events/sanftes-mindful-movement/2030-08-09/
LOCATION:Kresse zweipunktnull – Studio zweipunktnull\, Kressenberg 2\, Hattingen\, 45529\, Germany
CATEGORIES:Bewegung & Gesundheit
ATTACH;FMTTYPE=image/png:https://kressezweipunktnull.de/wp-content/uploads/2026/04/Yoga-von-Morgen-Website-gelb.png
ORGANIZER;CN="Yoga von Morgen":MAILTO:info@yogavonmorgen.de
END:VEVENT
BEGIN:VEVENT
DTSTART;TZID=Europe/Berlin:20300809T173000
DTEND;TZID=Europe/Berlin:20300809T190000
DTSTAMP:20260422T194224
CREATED:20260406T112519Z
LAST-MODIFIED:20260408T195217Z
UID:10000839-1912527000-1912532400@kressezweipunktnull.de
SUMMARY:Pfadfinder – Gruppenstunde Wölflinge
DESCRIPTION:Pfadfinder Stamm Isenburg – Gruppenstunde Wölflinge – Kinder von 7-10 Jahren \nAbenteuer erleben\, draußen spielen\, gemeinsam lachen und Neues entdecken – das erwartet dich bei unseren Wölflingen vom Stamm Isenburg! In unseren Gruppenstunden machen wir spannende (Gelände-)spiele\, sind wenn es geht in der Natur unterwegs\, basteln\, stärken unseren Teamgeist und lernen wichtige Pfadfinder Eigenschaften. Wenn du Lust hast\, neue Freunde kennenzulernen\, Gemeinschaft und Abenteuer zu erleben\, komm einfach vorbei! \nUnsere Wölflinge treffen sich jeden Freitag von 17:30-19 Uhr in der Kresse zweipunktnull zur Gruppenstunde. \nIn den regulären Ferienzeiten finden keine Gruppenstunden statt.
URL:https://kressezweipunktnull.de/events/pfadfinder-stamm-isenburg-gruppenstunde-woelflinge/2030-08-09/
LOCATION:Kresse zweipunktnull – Die blaue Bar & der Nebenraum\, Kressenberg 2\, Hattingen\, 45529\, Germany
CATEGORIES:Begegnung & Gemeinschaft,Natur & Umwelt
ATTACH;FMTTYPE=image/png:https://kressezweipunktnull.de/wp-content/uploads/2026/03/Pfadis16_9.png
END:VEVENT
BEGIN:VEVENT
DTSTART;TZID=Europe/Berlin:20300812T183000
DTEND;TZID=Europe/Berlin:20300812T194500
DTSTAMP:20260422T194224
CREATED:20260408T064630Z
LAST-MODIFIED:20260408T204613Z
UID:10001593-1912789800-1912794300@kressezweipunktnull.de
SUMMARY:Power & Release
DESCRIPTION:Power & Release\nDer kraftvolle Reset für deine Woche. \nSchüttle den Montags-Ballast ab und finde zurück in deine Kraft. Dieser Kurs kombiniert dynamische\, fordernde Bewegung mit tiefer Entspannung. Unter der Leitung von Yoga- und Ayurveda-Expertin Tatsiana nutzt du den ersten Teil der Stunde\, um Stressenergie aktiv „rauszupowern“ und den Kopf freizubekommen. Im anschließenden „Release“ darfst du komplett loslassen\, damit dein Nervensystem regeneriert und du entspannt in die Nacht startest. \nFür wen: Alle\, die Bewegung brauchen\, um im Kopf ruhig zu werden (keine Vorkenntnisse nötig).\nWann: Montags\, 18:30-19:45 Uhr
URL:https://kressezweipunktnull.de/events/power-release/2030-08-12/
LOCATION:Kresse zweipunktnull – Studio zweipunktnull\, Kressenberg 2\, Hattingen\, 45529\, Germany
CATEGORIES:Bewegung & Gesundheit
ATTACH;FMTTYPE=image/png:https://kressezweipunktnull.de/wp-content/uploads/2026/04/Yoga-von-Morgen-Website.png
ORGANIZER;CN="Yoga von Morgen":MAILTO:info@yogavonmorgen.de
END:VEVENT
BEGIN:VEVENT
DTSTART;TZID=Europe/Berlin:20300816T083000
DTEND;TZID=Europe/Berlin:20300816T090000
DTSTAMP:20260422T194224
CREATED:20260408T193933Z
LAST-MODIFIED:20260408T204544Z
UID:10001850-1913099400-1913101200@kressezweipunktnull.de
SUMMARY:Yoga Workout
DESCRIPTION:30 Minuten\, die es in sich haben. \nDer effiziente Power-Start in deinen Freitagmorgen. In diesem knackigen 30-Minuten-Format fokussieren wir uns auf kraftvolle Flows\, Halteübungen und funktionelle Bewegungen. Wir verschwenden keine Zeit: Wir stärken gezielt deine Körpermitte\, fordern die Muskulatur und heben dein Energielevel für das anstehende Wochenende. Ein intensives Training für spürbare Stabilität und inneren Fokus. \nFür wen: Alle\, die sich in einer halben Stunde richtig fordern wollen (ab sofort buchbar).\nWann: Freitags\, 08:30 – 09:00 Uhr\nKosten: 90 € (10er Karte\, 12 Wochen gültig) \n 
URL:https://kressezweipunktnull.de/events/yoga-workout/2030-08-16/
LOCATION:Kresse zweipunktnull – Studio zweipunktnull\, Kressenberg 2\, Hattingen\, 45529\, Germany
CATEGORIES:Bewegung & Gesundheit
ATTACH;FMTTYPE=image/png:https://kressezweipunktnull.de/wp-content/uploads/2026/04/Yoga-von-Morgen-Website-gelb.png
ORGANIZER;CN="Yoga von Morgen":MAILTO:info@yogavonmorgen.de
END:VEVENT
BEGIN:VEVENT
DTSTART;TZID=Europe/Berlin:20300816T091000
DTEND;TZID=Europe/Berlin:20300816T101000
DTSTAMP:20260422T194224
CREATED:20260408T195530Z
LAST-MODIFIED:20260408T204516Z
UID:10002106-1913101800-1913105400@kressezweipunktnull.de
SUMMARY:Sanftes Mindful Movement
DESCRIPTION:Stärke finden aus der Ruhe. \nEin achtsames Bewegungskonzept für alle\, die Kraft ohne Leistungsdruck suchen. In diesem Kurs vereint Elena von Yoga von Morgen Elemente aus Yoga\, Pilates und somatischer Praxis. Du arbeitest gezielt an deiner Tiefenmuskulatur und einer gesunden Ausrichtung\, während fließende Sequenzen dir helfen\, die Signale deines Körpers wieder bewusst wahrzunehmen. Ein Raum für Regeneration\, der dich aufgerichtet und klar ins Wochenende entlässt. \nFür wen: Ideal für Einsteiger\, Wiedereinsteiger und alle\, die eine bewusste Auszeit suchen.\nWann: Freitags\, 09:10-10:10 Uhr
URL:https://kressezweipunktnull.de/events/sanftes-mindful-movement/2030-08-16/
LOCATION:Kresse zweipunktnull – Studio zweipunktnull\, Kressenberg 2\, Hattingen\, 45529\, Germany
CATEGORIES:Bewegung & Gesundheit
ATTACH;FMTTYPE=image/png:https://kressezweipunktnull.de/wp-content/uploads/2026/04/Yoga-von-Morgen-Website-gelb.png
ORGANIZER;CN="Yoga von Morgen":MAILTO:info@yogavonmorgen.de
END:VEVENT
BEGIN:VEVENT
DTSTART;TZID=Europe/Berlin:20300816T173000
DTEND;TZID=Europe/Berlin:20300816T190000
DTSTAMP:20260422T194224
CREATED:20260406T112519Z
LAST-MODIFIED:20260408T195217Z
UID:10000840-1913131800-1913137200@kressezweipunktnull.de
SUMMARY:Pfadfinder – Gruppenstunde Wölflinge
DESCRIPTION:Pfadfinder Stamm Isenburg – Gruppenstunde Wölflinge – Kinder von 7-10 Jahren \nAbenteuer erleben\, draußen spielen\, gemeinsam lachen und Neues entdecken – das erwartet dich bei unseren Wölflingen vom Stamm Isenburg! In unseren Gruppenstunden machen wir spannende (Gelände-)spiele\, sind wenn es geht in der Natur unterwegs\, basteln\, stärken unseren Teamgeist und lernen wichtige Pfadfinder Eigenschaften. Wenn du Lust hast\, neue Freunde kennenzulernen\, Gemeinschaft und Abenteuer zu erleben\, komm einfach vorbei! \nUnsere Wölflinge treffen sich jeden Freitag von 17:30-19 Uhr in der Kresse zweipunktnull zur Gruppenstunde. \nIn den regulären Ferienzeiten finden keine Gruppenstunden statt.
URL:https://kressezweipunktnull.de/events/pfadfinder-stamm-isenburg-gruppenstunde-woelflinge/2030-08-16/
LOCATION:Kresse zweipunktnull – Die blaue Bar & der Nebenraum\, Kressenberg 2\, Hattingen\, 45529\, Germany
CATEGORIES:Begegnung & Gemeinschaft,Natur & Umwelt
ATTACH;FMTTYPE=image/png:https://kressezweipunktnull.de/wp-content/uploads/2026/03/Pfadis16_9.png
END:VEVENT
BEGIN:VEVENT
DTSTART;TZID=Europe/Berlin:20300819T183000
DTEND;TZID=Europe/Berlin:20300819T194500
DTSTAMP:20260422T194224
CREATED:20260408T064630Z
LAST-MODIFIED:20260408T204613Z
UID:10001594-1913394600-1913399100@kressezweipunktnull.de
SUMMARY:Power & Release
DESCRIPTION:Power & Release\nDer kraftvolle Reset für deine Woche. \nSchüttle den Montags-Ballast ab und finde zurück in deine Kraft. Dieser Kurs kombiniert dynamische\, fordernde Bewegung mit tiefer Entspannung. Unter der Leitung von Yoga- und Ayurveda-Expertin Tatsiana nutzt du den ersten Teil der Stunde\, um Stressenergie aktiv „rauszupowern“ und den Kopf freizubekommen. Im anschließenden „Release“ darfst du komplett loslassen\, damit dein Nervensystem regeneriert und du entspannt in die Nacht startest. \nFür wen: Alle\, die Bewegung brauchen\, um im Kopf ruhig zu werden (keine Vorkenntnisse nötig).\nWann: Montags\, 18:30-19:45 Uhr
URL:https://kressezweipunktnull.de/events/power-release/2030-08-19/
LOCATION:Kresse zweipunktnull – Studio zweipunktnull\, Kressenberg 2\, Hattingen\, 45529\, Germany
CATEGORIES:Bewegung & Gesundheit
ATTACH;FMTTYPE=image/png:https://kressezweipunktnull.de/wp-content/uploads/2026/04/Yoga-von-Morgen-Website.png
ORGANIZER;CN="Yoga von Morgen":MAILTO:info@yogavonmorgen.de
END:VEVENT
BEGIN:VEVENT
DTSTART;TZID=Europe/Berlin:20300823T083000
DTEND;TZID=Europe/Berlin:20300823T090000
DTSTAMP:20260422T194224
CREATED:20260408T193933Z
LAST-MODIFIED:20260408T204544Z
UID:10001851-1913704200-1913706000@kressezweipunktnull.de
SUMMARY:Yoga Workout
DESCRIPTION:30 Minuten\, die es in sich haben. \nDer effiziente Power-Start in deinen Freitagmorgen. In diesem knackigen 30-Minuten-Format fokussieren wir uns auf kraftvolle Flows\, Halteübungen und funktionelle Bewegungen. Wir verschwenden keine Zeit: Wir stärken gezielt deine Körpermitte\, fordern die Muskulatur und heben dein Energielevel für das anstehende Wochenende. Ein intensives Training für spürbare Stabilität und inneren Fokus. \nFür wen: Alle\, die sich in einer halben Stunde richtig fordern wollen (ab sofort buchbar).\nWann: Freitags\, 08:30 – 09:00 Uhr\nKosten: 90 € (10er Karte\, 12 Wochen gültig) \n 
URL:https://kressezweipunktnull.de/events/yoga-workout/2030-08-23/
LOCATION:Kresse zweipunktnull – Studio zweipunktnull\, Kressenberg 2\, Hattingen\, 45529\, Germany
CATEGORIES:Bewegung & Gesundheit
ATTACH;FMTTYPE=image/png:https://kressezweipunktnull.de/wp-content/uploads/2026/04/Yoga-von-Morgen-Website-gelb.png
ORGANIZER;CN="Yoga von Morgen":MAILTO:info@yogavonmorgen.de
END:VEVENT
BEGIN:VEVENT
DTSTART;TZID=Europe/Berlin:20300823T091000
DTEND;TZID=Europe/Berlin:20300823T101000
DTSTAMP:20260422T194224
CREATED:20260408T195530Z
LAST-MODIFIED:20260408T204516Z
UID:10002107-1913706600-1913710200@kressezweipunktnull.de
SUMMARY:Sanftes Mindful Movement
DESCRIPTION:Stärke finden aus der Ruhe. \nEin achtsames Bewegungskonzept für alle\, die Kraft ohne Leistungsdruck suchen. In diesem Kurs vereint Elena von Yoga von Morgen Elemente aus Yoga\, Pilates und somatischer Praxis. Du arbeitest gezielt an deiner Tiefenmuskulatur und einer gesunden Ausrichtung\, während fließende Sequenzen dir helfen\, die Signale deines Körpers wieder bewusst wahrzunehmen. Ein Raum für Regeneration\, der dich aufgerichtet und klar ins Wochenende entlässt. \nFür wen: Ideal für Einsteiger\, Wiedereinsteiger und alle\, die eine bewusste Auszeit suchen.\nWann: Freitags\, 09:10-10:10 Uhr
URL:https://kressezweipunktnull.de/events/sanftes-mindful-movement/2030-08-23/
LOCATION:Kresse zweipunktnull – Studio zweipunktnull\, Kressenberg 2\, Hattingen\, 45529\, Germany
CATEGORIES:Bewegung & Gesundheit
ATTACH;FMTTYPE=image/png:https://kressezweipunktnull.de/wp-content/uploads/2026/04/Yoga-von-Morgen-Website-gelb.png
ORGANIZER;CN="Yoga von Morgen":MAILTO:info@yogavonmorgen.de
END:VEVENT
BEGIN:VEVENT
DTSTART;TZID=Europe/Berlin:20300823T173000
DTEND;TZID=Europe/Berlin:20300823T190000
DTSTAMP:20260422T194224
CREATED:20260406T112519Z
LAST-MODIFIED:20260408T195217Z
UID:10000841-1913736600-1913742000@kressezweipunktnull.de
SUMMARY:Pfadfinder – Gruppenstunde Wölflinge
DESCRIPTION:Pfadfinder Stamm Isenburg – Gruppenstunde Wölflinge – Kinder von 7-10 Jahren \nAbenteuer erleben\, draußen spielen\, gemeinsam lachen und Neues entdecken – das erwartet dich bei unseren Wölflingen vom Stamm Isenburg! In unseren Gruppenstunden machen wir spannende (Gelände-)spiele\, sind wenn es geht in der Natur unterwegs\, basteln\, stärken unseren Teamgeist und lernen wichtige Pfadfinder Eigenschaften. Wenn du Lust hast\, neue Freunde kennenzulernen\, Gemeinschaft und Abenteuer zu erleben\, komm einfach vorbei! \nUnsere Wölflinge treffen sich jeden Freitag von 17:30-19 Uhr in der Kresse zweipunktnull zur Gruppenstunde. \nIn den regulären Ferienzeiten finden keine Gruppenstunden statt.
URL:https://kressezweipunktnull.de/events/pfadfinder-stamm-isenburg-gruppenstunde-woelflinge/2030-08-23/
LOCATION:Kresse zweipunktnull – Die blaue Bar & der Nebenraum\, Kressenberg 2\, Hattingen\, 45529\, Germany
CATEGORIES:Begegnung & Gemeinschaft,Natur & Umwelt
ATTACH;FMTTYPE=image/png:https://kressezweipunktnull.de/wp-content/uploads/2026/03/Pfadis16_9.png
END:VEVENT
BEGIN:VEVENT
DTSTART;TZID=Europe/Berlin:20300826T183000
DTEND;TZID=Europe/Berlin:20300826T194500
DTSTAMP:20260422T194224
CREATED:20260408T064630Z
LAST-MODIFIED:20260408T204613Z
UID:10001595-1913999400-1914003900@kressezweipunktnull.de
SUMMARY:Power & Release
DESCRIPTION:Power & Release\nDer kraftvolle Reset für deine Woche. \nSchüttle den Montags-Ballast ab und finde zurück in deine Kraft. Dieser Kurs kombiniert dynamische\, fordernde Bewegung mit tiefer Entspannung. Unter der Leitung von Yoga- und Ayurveda-Expertin Tatsiana nutzt du den ersten Teil der Stunde\, um Stressenergie aktiv „rauszupowern“ und den Kopf freizubekommen. Im anschließenden „Release“ darfst du komplett loslassen\, damit dein Nervensystem regeneriert und du entspannt in die Nacht startest. \nFür wen: Alle\, die Bewegung brauchen\, um im Kopf ruhig zu werden (keine Vorkenntnisse nötig).\nWann: Montags\, 18:30-19:45 Uhr
URL:https://kressezweipunktnull.de/events/power-release/2030-08-26/
LOCATION:Kresse zweipunktnull – Studio zweipunktnull\, Kressenberg 2\, Hattingen\, 45529\, Germany
CATEGORIES:Bewegung & Gesundheit
ATTACH;FMTTYPE=image/png:https://kressezweipunktnull.de/wp-content/uploads/2026/04/Yoga-von-Morgen-Website.png
ORGANIZER;CN="Yoga von Morgen":MAILTO:info@yogavonmorgen.de
END:VEVENT
BEGIN:VEVENT
DTSTART;TZID=Europe/Berlin:20300830T083000
DTEND;TZID=Europe/Berlin:20300830T090000
DTSTAMP:20260422T194224
CREATED:20260408T193933Z
LAST-MODIFIED:20260408T204544Z
UID:10001852-1914309000-1914310800@kressezweipunktnull.de
SUMMARY:Yoga Workout
DESCRIPTION:30 Minuten\, die es in sich haben. \nDer effiziente Power-Start in deinen Freitagmorgen. In diesem knackigen 30-Minuten-Format fokussieren wir uns auf kraftvolle Flows\, Halteübungen und funktionelle Bewegungen. Wir verschwenden keine Zeit: Wir stärken gezielt deine Körpermitte\, fordern die Muskulatur und heben dein Energielevel für das anstehende Wochenende. Ein intensives Training für spürbare Stabilität und inneren Fokus. \nFür wen: Alle\, die sich in einer halben Stunde richtig fordern wollen (ab sofort buchbar).\nWann: Freitags\, 08:30 – 09:00 Uhr\nKosten: 90 € (10er Karte\, 12 Wochen gültig) \n 
URL:https://kressezweipunktnull.de/events/yoga-workout/2030-08-30/
LOCATION:Kresse zweipunktnull – Studio zweipunktnull\, Kressenberg 2\, Hattingen\, 45529\, Germany
CATEGORIES:Bewegung & Gesundheit
ATTACH;FMTTYPE=image/png:https://kressezweipunktnull.de/wp-content/uploads/2026/04/Yoga-von-Morgen-Website-gelb.png
ORGANIZER;CN="Yoga von Morgen":MAILTO:info@yogavonmorgen.de
END:VEVENT
BEGIN:VEVENT
DTSTART;TZID=Europe/Berlin:20300830T091000
DTEND;TZID=Europe/Berlin:20300830T101000
DTSTAMP:20260422T194224
CREATED:20260408T195530Z
LAST-MODIFIED:20260408T204516Z
UID:10002108-1914311400-1914315000@kressezweipunktnull.de
SUMMARY:Sanftes Mindful Movement
DESCRIPTION:Stärke finden aus der Ruhe. \nEin achtsames Bewegungskonzept für alle\, die Kraft ohne Leistungsdruck suchen. In diesem Kurs vereint Elena von Yoga von Morgen Elemente aus Yoga\, Pilates und somatischer Praxis. Du arbeitest gezielt an deiner Tiefenmuskulatur und einer gesunden Ausrichtung\, während fließende Sequenzen dir helfen\, die Signale deines Körpers wieder bewusst wahrzunehmen. Ein Raum für Regeneration\, der dich aufgerichtet und klar ins Wochenende entlässt. \nFür wen: Ideal für Einsteiger\, Wiedereinsteiger und alle\, die eine bewusste Auszeit suchen.\nWann: Freitags\, 09:10-10:10 Uhr
URL:https://kressezweipunktnull.de/events/sanftes-mindful-movement/2030-08-30/
LOCATION:Kresse zweipunktnull – Studio zweipunktnull\, Kressenberg 2\, Hattingen\, 45529\, Germany
CATEGORIES:Bewegung & Gesundheit
ATTACH;FMTTYPE=image/png:https://kressezweipunktnull.de/wp-content/uploads/2026/04/Yoga-von-Morgen-Website-gelb.png
ORGANIZER;CN="Yoga von Morgen":MAILTO:info@yogavonmorgen.de
END:VEVENT
BEGIN:VEVENT
DTSTART;TZID=Europe/Berlin:20300830T173000
DTEND;TZID=Europe/Berlin:20300830T190000
DTSTAMP:20260422T194224
CREATED:20260406T112519Z
LAST-MODIFIED:20260408T195217Z
UID:10000842-1914341400-1914346800@kressezweipunktnull.de
SUMMARY:Pfadfinder – Gruppenstunde Wölflinge
DESCRIPTION:Pfadfinder Stamm Isenburg – Gruppenstunde Wölflinge – Kinder von 7-10 Jahren \nAbenteuer erleben\, draußen spielen\, gemeinsam lachen und Neues entdecken – das erwartet dich bei unseren Wölflingen vom Stamm Isenburg! In unseren Gruppenstunden machen wir spannende (Gelände-)spiele\, sind wenn es geht in der Natur unterwegs\, basteln\, stärken unseren Teamgeist und lernen wichtige Pfadfinder Eigenschaften. Wenn du Lust hast\, neue Freunde kennenzulernen\, Gemeinschaft und Abenteuer zu erleben\, komm einfach vorbei! \nUnsere Wölflinge treffen sich jeden Freitag von 17:30-19 Uhr in der Kresse zweipunktnull zur Gruppenstunde. \nIn den regulären Ferienzeiten finden keine Gruppenstunden statt.
URL:https://kressezweipunktnull.de/events/pfadfinder-stamm-isenburg-gruppenstunde-woelflinge/2030-08-30/
LOCATION:Kresse zweipunktnull – Die blaue Bar & der Nebenraum\, Kressenberg 2\, Hattingen\, 45529\, Germany
CATEGORIES:Begegnung & Gemeinschaft,Natur & Umwelt
ATTACH;FMTTYPE=image/png:https://kressezweipunktnull.de/wp-content/uploads/2026/03/Pfadis16_9.png
END:VEVENT
END:VCALENDAR