BEGIN:VCALENDAR
VERSION:2.0
PRODID:-//Kresse zweipunktnull - ECPv6.15.20//NONSGML v1.0//EN
CALSCALE:GREGORIAN
METHOD:PUBLISH
X-ORIGINAL-URL:https://kressezweipunktnull.de
X-WR-CALDESC:Veranstaltungen für Kresse zweipunktnull
REFRESH-INTERVAL;VALUE=DURATION:PT1H
X-Robots-Tag:noindex
X-PUBLISHED-TTL:PT1H
BEGIN:VTIMEZONE
TZID:Europe/Berlin
BEGIN:DAYLIGHT
TZOFFSETFROM:+0100
TZOFFSETTO:+0200
TZNAME:CEST
DTSTART:20250330T010000
END:DAYLIGHT
BEGIN:STANDARD
TZOFFSETFROM:+0200
TZOFFSETTO:+0100
TZNAME:CET
DTSTART:20251026T010000
END:STANDARD
BEGIN:DAYLIGHT
TZOFFSETFROM:+0100
TZOFFSETTO:+0200
TZNAME:CEST
DTSTART:20260329T010000
END:DAYLIGHT
BEGIN:STANDARD
TZOFFSETFROM:+0200
TZOFFSETTO:+0100
TZNAME:CET
DTSTART:20261025T010000
END:STANDARD
BEGIN:DAYLIGHT
TZOFFSETFROM:+0100
TZOFFSETTO:+0200
TZNAME:CEST
DTSTART:20270328T010000
END:DAYLIGHT
BEGIN:STANDARD
TZOFFSETFROM:+0200
TZOFFSETTO:+0100
TZNAME:CET
DTSTART:20271031T010000
END:STANDARD
END:VTIMEZONE
BEGIN:VEVENT
DTSTART;TZID=Europe/Berlin:20261123T183000
DTEND;TZID=Europe/Berlin:20261123T194500
DTSTAMP:20260420T032410
CREATED:20260408T064630Z
LAST-MODIFIED:20260408T204613Z
UID:10001399-1795458600-1795463100@kressezweipunktnull.de
SUMMARY:Power & Release
DESCRIPTION:Power & Release\nDer kraftvolle Reset für deine Woche. \nSchüttle den Montags-Ballast ab und finde zurück in deine Kraft. Dieser Kurs kombiniert dynamische\, fordernde Bewegung mit tiefer Entspannung. Unter der Leitung von Yoga- und Ayurveda-Expertin Tatsiana nutzt du den ersten Teil der Stunde\, um Stressenergie aktiv „rauszupowern“ und den Kopf freizubekommen. Im anschließenden „Release“ darfst du komplett loslassen\, damit dein Nervensystem regeneriert und du entspannt in die Nacht startest. \nFür wen: Alle\, die Bewegung brauchen\, um im Kopf ruhig zu werden (keine Vorkenntnisse nötig).\nWann: Montags\, 18:30-19:45 Uhr
URL:https://kressezweipunktnull.de/events/power-release/2026-11-23/
LOCATION:Kresse zweipunktnull – Studio zweipunktnull\, Kressenberg 2\, Hattingen\, 45529\, Germany
CATEGORIES:Bewegung & Gesundheit
ATTACH;FMTTYPE=image/png:https://kressezweipunktnull.de/wp-content/uploads/2026/04/Yoga-von-Morgen-Website.png
ORGANIZER;CN="Yoga von Morgen":MAILTO:info@yogavonmorgen.de
END:VEVENT
BEGIN:VEVENT
DTSTART;TZID=Europe/Berlin:20261123T183000
DTEND;TZID=Europe/Berlin:20261123T200000
DTSTAMP:20260420T032410
CREATED:20260406T114312Z
LAST-MODIFIED:20260408T195018Z
UID:10000894-1795458600-1795464000@kressezweipunktnull.de
SUMMARY:Pfadfinder – Gruppenstunde Pfadfinder (Pfadis)
DESCRIPTION:Pfadfinder Stamm Isenburg – Gruppenstunde Pfadfinder (Pfadis) – Jugendliche von 12-16 Jahren \nAbenteuer erleben\, gemeinsam lachen und Neues entdecken – das erwartet dich bei unseren Pfadis vom Stamm Isenburg! In unseren Gruppenstunden machen wir sowohl Geländespiele als auch eure eigenen Projekte\, bauen Schwedenstühle\, stärken unseren Teamgeist und wagen Neues. Wenn du Lust hast\, andere Jugendliche kennenzulernen\, Gemeinschaft und Abenteuer zu erleben\, komm einfach vorbei! \nUnsere Pfadis treffen sich jeden Montag von 18:30-20 Uhr in der Kresse zweipunktnull zur Gruppenstunde. \nIn den regulären Ferienzeiten finden keine Gruppenstunden statt.
URL:https://kressezweipunktnull.de/events/pfadfinder-stamm-isenburg-gruppenstunde-pfadfinder-pfadis-12-16-jahre/2026-11-23/
LOCATION:Kresse zweipunktnull – Die blaue Bar & der Nebenraum\, Kressenberg 2\, Hattingen\, 45529\, Germany
CATEGORIES:Begegnung & Gemeinschaft,Natur & Umwelt
ATTACH;FMTTYPE=image/png:https://kressezweipunktnull.de/wp-content/uploads/2026/03/Pfadis16_9.png
END:VEVENT
END:VCALENDAR