BEGIN:VCALENDAR
VERSION:2.0
PRODID:-//Kresse zweipunktnull - ECPv6.15.20//NONSGML v1.0//EN
CALSCALE:GREGORIAN
METHOD:PUBLISH
X-ORIGINAL-URL:https://kressezweipunktnull.de
X-WR-CALDESC:Veranstaltungen für Kresse zweipunktnull
REFRESH-INTERVAL;VALUE=DURATION:PT1H
X-Robots-Tag:noindex
X-PUBLISHED-TTL:PT1H
BEGIN:VTIMEZONE
TZID:Europe/Berlin
BEGIN:DAYLIGHT
TZOFFSETFROM:+0100
TZOFFSETTO:+0200
TZNAME:CEST
DTSTART:20250330T010000
END:DAYLIGHT
BEGIN:STANDARD
TZOFFSETFROM:+0200
TZOFFSETTO:+0100
TZNAME:CET
DTSTART:20251026T010000
END:STANDARD
BEGIN:DAYLIGHT
TZOFFSETFROM:+0100
TZOFFSETTO:+0200
TZNAME:CEST
DTSTART:20260329T010000
END:DAYLIGHT
BEGIN:STANDARD
TZOFFSETFROM:+0200
TZOFFSETTO:+0100
TZNAME:CET
DTSTART:20261025T010000
END:STANDARD
BEGIN:DAYLIGHT
TZOFFSETFROM:+0100
TZOFFSETTO:+0200
TZNAME:CEST
DTSTART:20270328T010000
END:DAYLIGHT
BEGIN:STANDARD
TZOFFSETFROM:+0200
TZOFFSETTO:+0100
TZNAME:CET
DTSTART:20271031T010000
END:STANDARD
END:VTIMEZONE
BEGIN:VEVENT
DTSTART;TZID=Europe/Berlin:20261016T083000
DTEND;TZID=Europe/Berlin:20261016T090000
DTSTAMP:20260420T013944
CREATED:20260408T193933Z
LAST-MODIFIED:20260408T204544Z
UID:10001650-1792139400-1792141200@kressezweipunktnull.de
SUMMARY:Yoga Workout
DESCRIPTION:30 Minuten\, die es in sich haben. \nDer effiziente Power-Start in deinen Freitagmorgen. In diesem knackigen 30-Minuten-Format fokussieren wir uns auf kraftvolle Flows\, Halteübungen und funktionelle Bewegungen. Wir verschwenden keine Zeit: Wir stärken gezielt deine Körpermitte\, fordern die Muskulatur und heben dein Energielevel für das anstehende Wochenende. Ein intensives Training für spürbare Stabilität und inneren Fokus. \nFür wen: Alle\, die sich in einer halben Stunde richtig fordern wollen (ab sofort buchbar).\nWann: Freitags\, 08:30 – 09:00 Uhr\nKosten: 90 € (10er Karte\, 12 Wochen gültig) \n 
URL:https://kressezweipunktnull.de/events/yoga-workout/2026-10-16/
LOCATION:Kresse zweipunktnull – Studio zweipunktnull\, Kressenberg 2\, Hattingen\, 45529\, Germany
CATEGORIES:Bewegung & Gesundheit
ATTACH;FMTTYPE=image/png:https://kressezweipunktnull.de/wp-content/uploads/2026/04/Yoga-von-Morgen-Website-gelb.png
ORGANIZER;CN="Yoga von Morgen":MAILTO:info@yogavonmorgen.de
END:VEVENT
BEGIN:VEVENT
DTSTART;TZID=Europe/Berlin:20261016T091000
DTEND;TZID=Europe/Berlin:20261016T101000
DTSTAMP:20260420T013944
CREATED:20260408T195530Z
LAST-MODIFIED:20260408T204516Z
UID:10001906-1792141800-1792145400@kressezweipunktnull.de
SUMMARY:Sanftes Mindful Movement
DESCRIPTION:Stärke finden aus der Ruhe. \nEin achtsames Bewegungskonzept für alle\, die Kraft ohne Leistungsdruck suchen. In diesem Kurs vereint Elena von Yoga von Morgen Elemente aus Yoga\, Pilates und somatischer Praxis. Du arbeitest gezielt an deiner Tiefenmuskulatur und einer gesunden Ausrichtung\, während fließende Sequenzen dir helfen\, die Signale deines Körpers wieder bewusst wahrzunehmen. Ein Raum für Regeneration\, der dich aufgerichtet und klar ins Wochenende entlässt. \nFür wen: Ideal für Einsteiger\, Wiedereinsteiger und alle\, die eine bewusste Auszeit suchen.\nWann: Freitags\, 09:10-10:10 Uhr
URL:https://kressezweipunktnull.de/events/sanftes-mindful-movement/2026-10-16/
LOCATION:Kresse zweipunktnull – Studio zweipunktnull\, Kressenberg 2\, Hattingen\, 45529\, Germany
CATEGORIES:Bewegung & Gesundheit
ATTACH;FMTTYPE=image/png:https://kressezweipunktnull.de/wp-content/uploads/2026/04/Yoga-von-Morgen-Website-gelb.png
ORGANIZER;CN="Yoga von Morgen":MAILTO:info@yogavonmorgen.de
END:VEVENT
BEGIN:VEVENT
DTSTART;TZID=Europe/Berlin:20261016T173000
DTEND;TZID=Europe/Berlin:20261016T190000
DTSTAMP:20260420T013944
CREATED:20260406T112519Z
LAST-MODIFIED:20260408T195217Z
UID:10000640-1792171800-1792177200@kressezweipunktnull.de
SUMMARY:Pfadfinder – Gruppenstunde Wölflinge
DESCRIPTION:Pfadfinder Stamm Isenburg – Gruppenstunde Wölflinge – Kinder von 7-10 Jahren \nAbenteuer erleben\, draußen spielen\, gemeinsam lachen und Neues entdecken – das erwartet dich bei unseren Wölflingen vom Stamm Isenburg! In unseren Gruppenstunden machen wir spannende (Gelände-)spiele\, sind wenn es geht in der Natur unterwegs\, basteln\, stärken unseren Teamgeist und lernen wichtige Pfadfinder Eigenschaften. Wenn du Lust hast\, neue Freunde kennenzulernen\, Gemeinschaft und Abenteuer zu erleben\, komm einfach vorbei! \nUnsere Wölflinge treffen sich jeden Freitag von 17:30-19 Uhr in der Kresse zweipunktnull zur Gruppenstunde. \nIn den regulären Ferienzeiten finden keine Gruppenstunden statt.
URL:https://kressezweipunktnull.de/events/pfadfinder-stamm-isenburg-gruppenstunde-woelflinge/2026-10-16/
LOCATION:Kresse zweipunktnull – Die blaue Bar & der Nebenraum\, Kressenberg 2\, Hattingen\, 45529\, Germany
CATEGORIES:Begegnung & Gemeinschaft,Natur & Umwelt
ATTACH;FMTTYPE=image/png:https://kressezweipunktnull.de/wp-content/uploads/2026/03/Pfadis16_9.png
END:VEVENT
END:VCALENDAR